BEGIN:VCALENDAR
VERSION:2.0
PRODID:-//ChamberMaster//Event Calendar 2.0//EN
METHOD:PUBLISH
X-PUBLISHED-TTL:P3D
REFRESH-INTERVAL:P3D
CALSCALE:GREGORIAN
BEGIN:VEVENT
DTSTART:20210827T130000Z
DTEND:20210827T170000Z
X-MICROSOFT-CDO-ALLDAYEVENT:FALSE
SUMMARY:Blood & Food Drive
DESCRIPTION:Unable to donate blood? You can still do help by bringing non-perishables for our Food Drive for Township pantry
X-ALT-DESC;FMTTYPE=text/html:Unable to donate blood? You can still do help by bringing non-perishables for our Food Drive for Township pantry
LOCATION:Lake Villa Township 37850 N Illinois Route 59 Ingleside
UID:e.2066.4123
SEQUENCE:3
DTSTAMP:20260423T112015Z
URL:https://dev.chainolakeschamber.com/events/details/blood-food-drive-4123
END:VEVENT

END:VCALENDAR
