BEGIN:VCALENDAR
VERSION:2.0
PRODID:-//ChamberMaster//Event Calendar 2.0//EN
METHOD:PUBLISH
X-PUBLISHED-TTL:P3D
REFRESH-INTERVAL:P3D
CALSCALE:GREGORIAN
BEGIN:VEVENT
DTSTART:20230923T170000Z
DTEND:20230924T000000Z
X-MICROSOFT-CDO-ALLDAYEVENT:FALSE
SUMMARY:Black Lung Brewing Fox Lake - Kitchen Grand Opening
DESCRIPTION:Join us to celebrate the Grand Opening of the Black Lung Brewing Co in Fox Lake's Kitchen!
X-ALT-DESC;FMTTYPE=text/html:Join us to celebrate the Grand Opening of the Black Lung Brewing Co in Fox Lake&#39\;s Kitchen!
LOCATION:Black Lung Brewing 115 Nippersink Blvd Fox Lake IL 60020
UID:e.2066.5437
SEQUENCE:3
DTSTAMP:20260419T153251Z
URL:https://dev.chainolakeschamber.com/events/details/black-lung-brewing-fox-lake-kitchen-grand-opening-5437
END:VEVENT

END:VCALENDAR
