BEGIN:VCALENDAR
VERSION:2.0
PRODID:-//ChamberMaster//Event Calendar 2.0//EN
METHOD:PUBLISH
X-PUBLISHED-TTL:P3D
REFRESH-INTERVAL:P3D
CALSCALE:GREGORIAN
BEGIN:VEVENT
DTSTART:20230211T190000Z
DTEND:20230212T050000Z
X-MICROSOFT-CDO-ALLDAYEVENT:FALSE
SUMMARY:Black Lung Brewing Co - Valentine's Party & Beer Release!
DESCRIPTION:Grab your date and head to Black Lung Brewing Co for a Valentine's Party and Beer Release!
X-ALT-DESC;FMTTYPE=text/html:Grab your date and head to Black Lung Brewing Co for a Valentine&#39\;s Party and Beer Release!
LOCATION:Black Lung Brewing Co 2217 N. IL Route 83 Round Lake Beach\, IL
UID:e.2066.4968
SEQUENCE:3
DTSTAMP:20260419T223122Z
URL:https://dev.chainolakeschamber.com/events/details/black-lung-brewing-co-valentine-s-party-beer-release-4968
END:VEVENT

END:VCALENDAR
