BEGIN:VCALENDAR
VERSION:2.0
PRODID:-//ChamberMaster//Event Calendar 2.0//EN
METHOD:PUBLISH
X-PUBLISHED-TTL:P3D
REFRESH-INTERVAL:P3D
CALSCALE:GREGORIAN
BEGIN:VEVENT
DTSTART:20230128T190000Z
DTEND:20230128T200000Z
X-MICROSOFT-CDO-ALLDAYEVENT:FALSE
SUMMARY:Black Lung Brewing Co.'s 2nd Anniversary Ribbon Cutting
DESCRIPTION:Join us to celebrate Black Lung Brewing Co.'s 2nd Anniversary in Round Lake Beach!
X-ALT-DESC;FMTTYPE=text/html:Join us to celebrate Black Lung Brewing Co.&#39\;s 2nd Anniversary in Round Lake Beach!
LOCATION:2217 N. Rt. 83 Round Lake Beach\, IL
UID:e.2066.4912
SEQUENCE:3
DTSTAMP:20260420T002152Z
URL:https://dev.chainolakeschamber.com/events/details/black-lung-brewing-co-s-2nd-anniversary-ribbon-cutting-4912
END:VEVENT

END:VCALENDAR
