BEGIN:VCALENDAR
VERSION:2.0
PRODID:-//ChamberMaster//Event Calendar 2.0//EN
METHOD:PUBLISH
X-PUBLISHED-TTL:P3D
REFRESH-INTERVAL:P3D
CALSCALE:GREGORIAN
BEGIN:VEVENT
DTSTART:20230825T220000Z
DTEND:20230826T010000Z
X-MICROSOFT-CDO-ALLDAYEVENT:FALSE
SUMMARY:Big Hollow Back to School Bash
DESCRIPTION:Are you ready for it.....\n\n\n\nWe are excited to announce the 6th Annual BIG Back to School Bash is organized and presented by BSHD38 Office of Community Development & Outreach. YOUR PTO is happy to support BHSD38 on the BIGgest night of the year!\n\n\n\nI'm honored to be the new BHSD38 Community Development & Outreach Coordinator. This part time role allows me to continue doing what I love---lots of serving the families of BHSD38\, Community Building and BIG fun\, Cindy.
X-ALT-DESC;FMTTYPE=text/html:<span style="color: rgb(5\, 5\, 5)\; font-family: &quot\;Segoe UI Historic&quot\;\, &quot\;Segoe UI&quot\;\, Helvetica\, Arial\, sans-serif\; font-size: 15px\;">Are you ready for it.....</span><br style="color: rgb(5\, 5\, 5)\; font-family: &quot\;Segoe UI Historic&quot\;\, &quot\;Segoe UI&quot\;\, Helvetica\, Arial\, sans-serif\; font-size: 15px\;" />\n<br style="color: rgb(5\, 5\, 5)\; font-family: &quot\;Segoe UI Historic&quot\;\, &quot\;Segoe UI&quot\;\, Helvetica\, Arial\, sans-serif\; font-size: 15px\;" />\n<span style="color: rgb(5\, 5\, 5)\; font-family: &quot\;Segoe UI Historic&quot\;\, &quot\;Segoe UI&quot\;\, Helvetica\, Arial\, sans-serif\; font-size: 15px\;">We are excited to announce the 6th Annual BIG Back to School Bash is organized and presented by BSHD38 Office of Community Development &amp\; Outreach. YOUR PTO is happy to support BHSD38 on the BIGgest night of the year!</span><br style="color: rgb(5\, 5\, 5)\; font-family: &quot\;Segoe UI Historic&quot\;\, &quot\;Segoe UI&quot\;\, Helvetica\, Arial\, sans-serif\; font-size: 15px\;" />\n<br style="color: rgb(5\, 5\, 5)\; font-family: &quot\;Segoe UI Historic&quot\;\, &quot\;Segoe UI&quot\;\, Helvetica\, Arial\, sans-serif\; font-size: 15px\;" />\n<span style="color: rgb(5\, 5\, 5)\; font-family: &quot\;Segoe UI Historic&quot\;\, &quot\;Segoe UI&quot\;\, Helvetica\, Arial\, sans-serif\; font-size: 15px\;">I&#39\;m honored to be the new BHSD38 Community Development &amp\; Outreach Coordinator. This part time role allows me to continue doing what I love---lots of serving the families of BHSD38\, Community Building and BIG fun\, Cindy.</span>
LOCATION:Big Hollow School Campus
UID:e.2066.5318
SEQUENCE:3
DTSTAMP:20260419T121136Z
URL:https://dev.chainolakeschamber.com/events/details/big-hollow-back-to-school-bash-5318
END:VEVENT

END:VCALENDAR
