BEGIN:VCALENDAR
VERSION:2.0
PRODID:-//ChamberMaster//Event Calendar 2.0//EN
METHOD:PUBLISH
X-PUBLISHED-TTL:P3D
REFRESH-INTERVAL:P3D
CALSCALE:GREGORIAN
BEGIN:VEVENT
DTSTART:20230311T000000Z
DTEND:20230311T030000Z
X-MICROSOFT-CDO-ALLDAYEVENT:FALSE
SUMMARY:Big City Bash - CASA of McHenry County
DESCRIPTION:Big City Bash - Havana\n\nGrab your fedora and favorite vintage dress for a Cuban themed dinner\, Latin music as well as live and silent auctions!\n\nCocktail attire or dress to Havana theme.
X-ALT-DESC;FMTTYPE=text/html:Big City Bash - Havana<br />\nGrab your fedora and favorite vintage dress for a Cuban themed dinner\, Latin music as well as live and silent auctions!<br />\nCocktail attire or dress to Havana theme.
LOCATION:Avante Banquets Fox River Grove
UID:e.2066.5012
SEQUENCE:3
DTSTAMP:20260419T223212Z
URL:https://dev.chainolakeschamber.com/events/details/big-city-bash-casa-of-mchenry-county-5012
END:VEVENT

END:VCALENDAR
