BEGIN:VCALENDAR
VERSION:2.0
PRODID:-//ChamberMaster//Event Calendar 2.0//EN
METHOD:PUBLISH
X-PUBLISHED-TTL:P3D
REFRESH-INTERVAL:P3D
CALSCALE:GREGORIAN
BEGIN:VEVENT
DTSTART:20211014T220000Z
DTEND:20211015T000000Z
X-MICROSOFT-CDO-ALLDAYEVENT:FALSE
SUMMARY:Beyond Balance: Integrating Professional & Personal Life
DESCRIPTION:Finding ways to make one's work and personal lives feel compatible instead of competitive is a great way to help employees feel more empowered and in control of their lives. Improve engagement and productivity by helping employees act on prioritizing home and work in ways that do justice to each.
X-ALT-DESC;FMTTYPE=text/html:Finding ways to make one&#39\;s work and personal lives feel compatible instead of competitive is a great way to help employees feel more empowered and in control of their lives. Improve engagement and productivity by helping employees act on prioritizing home and work in ways that do justice to each.
LOCATION:Live Zoom
UID:e.2066.4137
SEQUENCE:3
DTSTAMP:20260423T065607Z
URL:https://dev.chainolakeschamber.com/events/details/beyond-balance-integrating-professional-personal-life-4137
END:VEVENT

END:VCALENDAR
