BEGIN:VCALENDAR
VERSION:2.0
PRODID:-//ChamberMaster//Event Calendar 2.0//EN
METHOD:PUBLISH
X-PUBLISHED-TTL:P3D
REFRESH-INTERVAL:P3D
CALSCALE:GREGORIAN
BEGIN:VEVENT
DTSTART:20210331T140000Z
DTEND:20210331T160000Z
X-MICROSOFT-CDO-ALLDAYEVENT:FALSE
SUMMARY:Beyond Balance: Integrating Personal and Professional
DESCRIPTION:It isn't so much a matter of "balance" anymore\, as "integration" of work and personal life. Employees who have solid strategies for managing the fine line between personal and professional are more productive in both environments. Finding ways to make one's work and personal lives feel compatible instead of competitive is a great way to help employees feel more empowered and in control of their lives. Improve engagement and productivity by helping employees take action on prioritizing home and work in ways that do justice to each.
X-ALT-DESC;FMTTYPE=text/html:It isn&#39\;t so much a matter of &quot\;balance&quot\; anymore\, as &quot\;integration&quot\; of work and personal life. Employees who have solid strategies for managing the fine line between personal and professional are more productive in both environments. Finding ways to make one&#39\;s work and personal lives feel compatible instead of competitive is a great way to help employees feel more empowered and in control of their lives. Improve engagement and productivity by helping employees take action on prioritizing home and work in ways that do justice to each.
LOCATION:Live Zoom
UID:e.2066.3878
SEQUENCE:3
DTSTAMP:20260423T174333Z
URL:https://dev.chainolakeschamber.com/events/details/beyond-balance-integrating-personal-and-professional-3878
END:VEVENT

END:VCALENDAR
