BEGIN:VCALENDAR
VERSION:2.0
PRODID:-//ChamberMaster//Event Calendar 2.0//EN
METHOD:PUBLISH
X-PUBLISHED-TTL:P3D
REFRESH-INTERVAL:P3D
CALSCALE:GREGORIAN
BEGIN:VEVENT
DTSTART:20210727T163000Z
DTEND:20210727T173000Z
X-MICROSOFT-CDO-ALLDAYEVENT:FALSE
SUMMARY:Best Bargain Bin\, Inc -Ribbon Cutting and Grand Opening
DESCRIPTION:Ribbon Cutting at NOON
X-ALT-DESC;FMTTYPE=text/html:Ribbon Cutting at NOON
LOCATION:Best Bargain Bin\, Inc 107 Towne Center St Fox Lake (near movie theater)
UID:e.2066.4100
SEQUENCE:3
DTSTAMP:20260423T112241Z
URL:https://dev.chainolakeschamber.com/events/details/best-bargain-bin-inc-ribbon-cutting-and-grand-opening-4100
END:VEVENT

END:VCALENDAR
