BEGIN:VCALENDAR
VERSION:2.0
PRODID:-//ChamberMaster//Event Calendar 2.0//EN
METHOD:PUBLISH
X-PUBLISHED-TTL:P3D
REFRESH-INTERVAL:P3D
CALSCALE:GREGORIAN
BEGIN:VEVENT
DTSTART:20220915T150000Z
DTEND:20220915T160000Z
X-MICROSOFT-CDO-ALLDAYEVENT:FALSE
SUMMARY:Benefits of Laughter
DESCRIPTION:A Live Virtual Presentation\n\nPresented by Chris Petrik\, RN\, BS\, Director of Education\, Master Dementia Reality Trainer\, Elderwerks Educational Services\n\nJoin Chris for this fun presentation on the best form of expression. She will discuss the differences between laughter and humor\, the psychological and physical benefits laughter provides\, and give some examples of laughter exercise and therapy.
X-ALT-DESC;FMTTYPE=text/html:&nbsp\;<span style="font-family:comic sans ms"><span style="font-size:16.0pt">A Live Virtual Presentation</span></span><br />\n<em><span style="font-family:arial narrow\,sans-serif"><span style="font-size:18.0pt">Presented by </span></span></em><strong><span style="font-family:arial narrow\,sans-serif"><span style="font-size:18.0pt">Chris Petrik\, RN\, BS\, Director of Education\, Master Dementia Reality Trainer\, Elderwerks Educational Services</span></span></strong><br />\n<span style="font-family:arial\,sans-serif"><span style="font-size:16.0pt">Join Chris for this fun presentation on the best form of expression. She will discuss the differences between laughter and humor\, the psychological and physical benefits laughter provides\, and give some examples of laughter exercise and therapy.</span></span>
LOCATION:Zoom Webinar: Register Here: https://us02web.zoom.us/meeting/register/tZAtd-uhrD4qHdTdYp4nmrB_4vJbNlEmGX3a
UID:e.2066.4570
SEQUENCE:3
DTSTAMP:20260422T122658Z
URL:https://dev.chainolakeschamber.com/events/details/benefits-of-laughter-4570
END:VEVENT

END:VCALENDAR
