BEGIN:VCALENDAR
VERSION:2.0
PRODID:-//ChamberMaster//Event Calendar 2.0//EN
METHOD:PUBLISH
X-PUBLISHED-TTL:P3D
REFRESH-INTERVAL:P3D
CALSCALE:GREGORIAN
BEGIN:VEVENT
DTSTART:20221115T160000Z
DTEND:20221115T170000Z
X-MICROSOFT-CDO-ALLDAYEVENT:FALSE
SUMMARY:Benefits of Laughter
DESCRIPTION:Join Chris for this fun presentation on the best form of expression. She will discuss the differences between laughter and humor\, the psychological and physical benefits laughter provides\, and give some examples of laughter exercise and therapy
X-ALT-DESC;FMTTYPE=text/html:<span style="font-family:arial\,sans-serif"><span style="font-size:16.0pt">Join Chris for this fun presentation on the best form of expression. She will discuss the differences between laughter and humor\, the psychological and physical benefits laughter provides\, and give some examples of laughter exercise and therapy</span></span>
LOCATION:Zoom
UID:e.2066.4653
SEQUENCE:3
DTSTAMP:20260422T091337Z
URL:https://dev.chainolakeschamber.com/events/details/benefits-of-laughter-11-15-2022-4653
END:VEVENT

END:VCALENDAR
