BEGIN:VCALENDAR
VERSION:2.0
PRODID:-//ChamberMaster//Event Calendar 2.0//EN
METHOD:PUBLISH
X-PUBLISHED-TTL:P3D
REFRESH-INTERVAL:P3D
CALSCALE:GREGORIAN
BEGIN:VEVENT
DTSTART:20200615T230000Z
DTEND:20200616T004500Z
X-MICROSOFT-CDO-ALLDAYEVENT:FALSE
SUMMARY:Beginner Obedience Class
DESCRIPTION:Beginner Obedience Class\n\nFor the dog just getting started in obedience\, exercises include:\n\n\n	Heel walk on a loose lead sit stay about turns\, u-turns\, lead with your left foot and sit hand signal stay hand signal.\n	Heel\, down stay\, hand signal with word command circle left and circle right.\n	Stand for Examination with hand commands it is of great benefit when the dog needs hands-on care by a veterinarian.\n	Recall   practice come\, hand signal and sit in front of owner.\n	Long Sit (1 minute)   allows the handler to have control of the dog when visitors come to the home.\n	Long Down (3 minutes)   dog must remain in a down position.
X-ALT-DESC;FMTTYPE=text/html:<div style="text-align:center"><strong><span style="font-size:12px"><span style="font-family:verdana"><span style="color:black">Beginner Obedience Class<br />\nFor the dog just getting started in obedience\, exercises include:</span></span></span></strong></div>\n\n<ul>\n	<li><span style="font-size:12px"><span style="font-family:verdana"><span style="color:black">Heel walk on a loose lead sit stay about turns\, u-turns\, lead with your left foot and sit hand signal stay hand signal.</span></span></span></li>\n	<li><span style="font-size:12px"><span style="font-family:verdana"><span style="color:black">Heel\, down stay\, hand signal with word command circle left and circle right.</span></span></span></li>\n	<li><span style="font-size:12px"><span style="font-family:verdana"><span style="color:black">Stand for Examination with hand commands it is of great benefit when the dog needs hands-on care by a veterinarian.</span></span></span></li>\n	<li><span style="font-size:12px"><span style="font-family:verdana"><span style="color:black">Recall &ndash\;&nbsp\;practice come\, hand signal and sit in front of owner.</span></span></span></li>\n	<li><span style="font-size:12px"><span style="font-family:verdana"><span style="color:black">Long Sit (1 minute) &ndash\; allows the handler to have control of the dog when visitors come to the home.</span></span></span></li>\n	<li><span style="font-size:12px"><span style="font-family:verdana"><span style="color:black">Long Down (3 minutes) &ndash\; dog must remain in a down position.&nbsp\;</span></span></span></li>\n</ul>\n
LOCATION:Alden's Kennels Inc 6810 Barnard Mill Rd Ringwood\, IL. 60072
UID:e.2066.1103
SEQUENCE:3
DTSTAMP:20260424T081557Z
URL:https://dev.chainolakeschamber.com/events/details/beginner-obedience-class-1103
END:VEVENT

END:VCALENDAR
