BEGIN:VCALENDAR
VERSION:2.0
PRODID:-//ChamberMaster//Event Calendar 2.0//EN
METHOD:PUBLISH
X-PUBLISHED-TTL:P3D
REFRESH-INTERVAL:P3D
CALSCALE:GREGORIAN
BEGIN:VEVENT
DTSTART:20220630T140000Z
DTEND:20220630T144500Z
X-MICROSOFT-CDO-ALLDAYEVENT:FALSE
SUMMARY:Be a Talent Magnet: Ways to Post\, Interview and Hire for Top Talent
DESCRIPTION:When it comes to hiring\, the stakes can be high\, with the cost of a misfit or loss being as much as 5x annual salary (or more). While businesses may be tempted to hire quickly to fill empty seats\, the long-term consequences can be severe. Learn tips on how to effectively create job postings that get great candidates\, interviewing for a "best fit" while avoiding costly mis-hires\, and using exit interviews as a means to improve the entire talent acquisition cycle. This workshop includes open consultation to all participants from 10 a.m. to 1 p.m.
X-ALT-DESC;FMTTYPE=text/html:When it comes to hiring\, the stakes can be high\, with the cost of a misfit or loss being as much as 5x annual salary (or more). While businesses may be tempted to hire quickly to fill empty seats\, the long-term consequences can be severe. Learn tips on how to effectively create job postings that get great candidates\, interviewing for a &ldquo\;best fit&rdquo\; while avoiding costly mis-hires\, and using exit interviews as a means to improve the entire talent acquisition cycle. This workshop includes open consultation to all participants from 10 a.m. to 1 p.m.
LOCATION:Virtual Live
UID:e.2066.4510
SEQUENCE:3
DTSTAMP:20260422T174047Z
URL:https://dev.chainolakeschamber.com/events/details/be-a-talent-magnet-ways-to-post-interview-and-hire-for-top-talent-4510
END:VEVENT

END:VCALENDAR
