BEGIN:VCALENDAR
VERSION:2.0
PRODID:-//ChamberMaster//Event Calendar 2.0//EN
METHOD:PUBLISH
X-PUBLISHED-TTL:P3D
REFRESH-INTERVAL:P3D
CALSCALE:GREGORIAN
BEGIN:VEVENT
DTSTART:20190713T160000Z
DTEND:20190713T190000Z
X-MICROSOFT-CDO-ALLDAYEVENT:FALSE
SUMMARY:BBQ for the Troops - Ray Auto Group
DESCRIPTION:Community Event!\n\n\n\nBBQ for the Troops\n\nAll proceeds go to the USO of Illinois\n\n\n\nColor Guard presentation at noon
X-ALT-DESC;FMTTYPE=text/html:Community Event!<br />\n<br />\nBBQ for the Troops<br />\n<span style="font-size:14px\;">All proceeds go to the USO of Illinois</span><br />\n<br />\n<span style="font-size:16px\;">Color Guard presentation at noon</span>
LOCATION:Ray Auto 23 N Route 12\, Fox Lake\, IL
UID:e.2066.2976
SEQUENCE:3
DTSTAMP:20260425T040031Z
URL:https://dev.chainolakeschamber.com/events/details/bbq-for-the-troops-ray-auto-group-2976
END:VEVENT

END:VCALENDAR
