BEGIN:VCALENDAR
VERSION:2.0
PRODID:-//ChamberMaster//Event Calendar 2.0//EN
METHOD:PUBLISH
X-PUBLISHED-TTL:P3D
REFRESH-INTERVAL:P3D
CALSCALE:GREGORIAN
BEGIN:VEVENT
DTSTART:20180714T160000Z
DTEND:20180714T190000Z
X-MICROSOFT-CDO-ALLDAYEVENT:FALSE
SUMMARY:BBQ for the Troops - Ray Auto Group
DESCRIPTION:BBQ for the Troops\n\nAll proceeds go to the USO of Illinois\n\n\n\nColor Guard presentation at noon
X-ALT-DESC;FMTTYPE=text/html:BBQ for the Troops<br />\nAll proceeds go to the USO of Illinois<br />\n<br />\nColor Guard presentation at noon
LOCATION:Ray Auto 23 N Route 12\, Fox Lake\, IL
UID:e.2066.1118
SEQUENCE:3
DTSTAMP:20260425T221426Z
URL:https://dev.chainolakeschamber.com/events/details/bbq-for-the-troops-ray-auto-group-1118
END:VEVENT

END:VCALENDAR
