BEGIN:VCALENDAR
VERSION:2.0
PRODID:-//ChamberMaster//Event Calendar 2.0//EN
METHOD:PUBLISH
X-PUBLISHED-TTL:P3D
REFRESH-INTERVAL:P3D
CALSCALE:GREGORIAN
BEGIN:VEVENT
DTSTART:20180808T160000Z
DTEND:20180809T000000Z
X-MICROSOFT-CDO-ALLDAYEVENT:FALSE
SUMMARY:Battle of the Chambers Golf Outing- RSG and Twin Lakes
DESCRIPTION:Richmond Spring Grove Chamber of Commerce and Twin Lakes Chamber of commerce will be battling it out for the Stateline champion.
X-ALT-DESC;FMTTYPE=text/html:Richmond Spring Grove Chamber of Commerce and Twin Lakes Chamber of commerce will be battling it out for the Stateline champion.
LOCATION:Twin Lakes County Club 1230 Legion Dr\, Twin Lakes\, WI
UID:e.2066.1093
SEQUENCE:3
DTSTAMP:20260425T193322Z
URL:https://dev.chainolakeschamber.com/events/details/battle-of-the-chambers-golf-outing-rsg-and-twin-lakes-1093
END:VEVENT

END:VCALENDAR
