BEGIN:VCALENDAR
VERSION:2.0
PRODID:-//ChamberMaster//Event Calendar 2.0//EN
METHOD:PUBLISH
X-PUBLISHED-TTL:P3D
REFRESH-INTERVAL:P3D
CALSCALE:GREGORIAN
BEGIN:VEVENT
DTSTART:20230618T164500Z
DTEND:20230618T173000Z
X-MICROSOFT-CDO-ALLDAYEVENT:FALSE
SUMMARY:Barger's Beef Grand Opening & Ribbon Cutting!
DESCRIPTION:Join us to congratulate Kris and Darren on the opening of Barger's Beef!
X-ALT-DESC;FMTTYPE=text/html:Join us to congratulate Kris and Darren on the opening of Barger&#39\;s Beef!
LOCATION:36930 N. Stanton Point Road Ingleside IL
UID:e.2066.5236
SEQUENCE:3
DTSTAMP:20260419T155133Z
URL:https://dev.chainolakeschamber.com/events/details/barger-s-beef-grand-opening-ribbon-cutting-5236
END:VEVENT

END:VCALENDAR
