BEGIN:VCALENDAR
VERSION:2.0
PRODID:-//ChamberMaster//Event Calendar 2.0//EN
METHOD:PUBLISH
X-PUBLISHED-TTL:P3D
REFRESH-INTERVAL:P3D
CALSCALE:GREGORIAN
BEGIN:VEVENT
DTSTART:20220623T140000Z
DTEND:20220623T144500Z
X-MICROSOFT-CDO-ALLDAYEVENT:FALSE
SUMMARY:Balancing Act: How to Be flexible Without Breaking
DESCRIPTION:It should be no surprise that many workers still want - and need - greater flexibility and balance than they used to have for work and life. Whether it's the challenge of child-care and lingering pandemic conditions\, or an awareness that the "old model" of doing business is no longer fulfilling or acceptable\, workers have a host of reasons for why they seek employers who are willing to provide what they want. It can be tough for business leaders to know how to give without giving in\, or flex without breaking. Finding ways to provide more flexibility and balance is a smart way for business owners and leaders to ensure they can find and keep great workers. This workshop includes open consultation to all participants from 10 a.m. to 1 p.m.
X-ALT-DESC;FMTTYPE=text/html:It should be no surprise that many workers still want - and need - greater flexibility and balance than they used to have for work and life. Whether it&#39\;s the challenge of child-care and lingering pandemic conditions\, or an awareness that the &quot\;old model&quot\; of doing business is no longer fulfilling or acceptable\, workers have a host of reasons for why they seek employers who are willing to provide what they want. It can be tough for business leaders to know how to give without giving in\, or flex without breaking. Finding ways to provide more flexibility and balance is a smart way for business owners and leaders to ensure they can find and keep great workers. This workshop includes open consultation to all participants from 10 a.m. to 1 p.m.
LOCATION:Virtual Live
UID:e.2066.4509
SEQUENCE:3
DTSTAMP:20260422T190802Z
URL:https://dev.chainolakeschamber.com/events/details/balancing-act-how-to-be-flexible-without-breaking-4509
END:VEVENT

END:VCALENDAR
