BEGIN:VCALENDAR
VERSION:2.0
PRODID:-//ChamberMaster//Event Calendar 2.0//EN
METHOD:PUBLISH
X-PUBLISHED-TTL:P3D
REFRESH-INTERVAL:P3D
CALSCALE:GREGORIAN
BEGIN:VEVENT
DTSTART:20230610T200000Z
DTEND:20230611T033000Z
X-MICROSOFT-CDO-ALLDAYEVENT:FALSE
SUMMARY:B4 FEST - ADMISSION TICKETS
DESCRIPTION:Get your early bird ticket pricing here!\n\nhttps://tinyurl.com/muaefmdx\n\n \nThe Chain O' Lakes Chamber of Commerce is excited to announce a brand new event called the B4 Summer Festival! Bands\, bacon\, bourbon and beer will be the theme with a goal to raise money for five local nonprofit organizations.\n\nWhat makes this festival special is that the festival grounds will be the Richardson Adventure Farm in Spring Grove creating a unique opportunity to be a sponsor for a highly anticipated event. They will be opening some of their family-friendly activities just for the fest\, such as their 700ft zip line\, a 50ft observation tower\, massive jumping pillow\, pedal cars\, playground\, and giant slide to enhance the experience. \n\nEntertainment includes live music from staple headlining bands like Modern Day Romeos\, 7th Heaven and Serendipity. Many of our beer selections will be represented by local breweries. Nine local food trucks will be placed throughout the property with a wide assortment of both bacon\, and non-bacon\, themed food options. A separate private bourbon tasting will provide novice and developed palates a great experience.  \n\nThe five local nonprofit organizations you will be helping will be: Allendale Association\, offering a variety of therapeutic programs and services for children and their families with emotional and behavioral challenges. Save-a-Pet\, one of the largest no-kill cat and dog rescues in Lake County that operates a full-time adoption center for abused\, neglected\, injured or lost animals. Elderwerks\, providing help with any type of senior housing or elder care solutions\, for you or your loved ones\, free of charge. Jeeps on the Run\, philanthropic Jeep owners that raise money for the community supporting Toys for Tots (with almost $1\,000\,000 in donations) as well as raising money for breast cancer\, heart disease\, St. Baldrick's\, St. Jude and local food pantries. Chain O'Lakes Area Chamber of Commerce High School Scholarship Fund\, which provides a scholarship to one college bound high school senior from each of our three high schools\, Richmond Burton High School\, Grant Community High School\, and Wauconda High School.
X-ALT-DESC;FMTTYPE=text/html:Get your early bird ticket pricing here!<br />\n<span style="font-size: 15px\;">https://tinyurl.com/muaefmdx</span><br />\n&nbsp\;\n<p dir="ltr" style="color: rgb(36\, 36\, 36)\; font-family: &quot\;Segoe UI&quot\;\, &quot\;Segoe UI Web (West European)&quot\;\, &quot\;Segoe UI&quot\;\, -apple-system\, BlinkMacSystemFont\, Roboto\, &quot\;Helvetica Neue&quot\;\, sans-serif\; font-size: 15px\; line-height: 1.38\;"><span style="border: 0px\; font-style: inherit\; font-variant-ligatures: inherit\; font-variant-caps: inherit\; font-variant-numeric: normal\; font-variant-east-asian: normal\; font-variant-alternates: normal\; font-weight: inherit\; font-stretch: inherit\; font-size: inherit\; line-height: inherit\; font-family: Calibri\, sans-serif\; font-optical-sizing: inherit\; font-kerning: inherit\; font-feature-settings: inherit\; font-variation-settings: inherit\; margin: 0px\; padding: 0px\; vertical-align: baseline\; white-space: pre-wrap\; color: rgb(0\, 0\, 0) !important\; background-color: transparent !important\;">The Chain O&rsquo\; Lakes Chamber of Commerce is excited to announce a brand new event called the B4 Summer Festival! Bands\, bacon\, bourbon and beer will be the theme with a goal to raise money for five local nonprofit organizations.</span></p>\n\n<p dir="ltr" style="color: rgb(36\, 36\, 36)\; font-family: &quot\;Segoe UI&quot\;\, &quot\;Segoe UI Web (West European)&quot\;\, &quot\;Segoe UI&quot\;\, -apple-system\, BlinkMacSystemFont\, Roboto\, &quot\;Helvetica Neue&quot\;\, sans-serif\; font-size: 15px\; line-height: 1.38\;"><span style="border: 0px\; font-style: inherit\; font-variant-ligatures: inherit\; font-variant-caps: inherit\; font-variant-numeric: normal\; font-variant-east-asian: normal\; font-variant-alternates: normal\; font-weight: inherit\; font-stretch: inherit\; font-size: inherit\; line-height: inherit\; font-family: Calibri\, sans-serif\; font-optical-sizing: inherit\; font-kerning: inherit\; font-feature-settings: inherit\; font-variation-settings: inherit\; margin: 0px\; padding: 0px\; vertical-align: baseline\; white-space: pre-wrap\; color: rgb(0\, 0\, 0) !important\; background-color: transparent !important\;">What makes this festival special is that the festival grounds will be the Richardson Adventure Farm in Spring Grove creating a unique opportunity to be a sponsor for a highly anticipated event. They will be opening some of their family-friendly activities just for the fest\, such as their 700ft zip line\, a 50ft observation tower\, massive jumping pillow\, pedal cars\, playground\, and giant slide to enhance the experience.&nbsp\;</span></p>\n\n<p dir="ltr" style="color: rgb(36\, 36\, 36)\; font-family: &quot\;Segoe UI&quot\;\, &quot\;Segoe UI Web (West European)&quot\;\, &quot\;Segoe UI&quot\;\, -apple-system\, BlinkMacSystemFont\, Roboto\, &quot\;Helvetica Neue&quot\;\, sans-serif\; font-size: 15px\; line-height: 1.38\;"><span style="border: 0px\; font-style: inherit\; font-variant-ligatures: inherit\; font-variant-caps: inherit\; font-variant-numeric: normal\; font-variant-east-asian: normal\; font-variant-alternates: normal\; font-weight: inherit\; font-stretch: inherit\; font-size: inherit\; line-height: inherit\; font-family: Calibri\, sans-serif\; font-optical-sizing: inherit\; font-kerning: inherit\; font-feature-settings: inherit\; font-variation-settings: inherit\; margin: 0px\; padding: 0px\; vertical-align: baseline\; white-space: pre-wrap\; color: rgb(0\, 0\, 0) !important\; background-color: transparent !important\;">Entertainment includes live music from staple headlining bands like Modern Day Romeos\, 7th Heaven and Serendipity. Many of our beer selections will be represented by local breweries. Nine local food trucks will be placed throughout the property with a wide assortment of both bacon\, and non-bacon\, themed food options. A separate private bourbon tasting will provide novice and developed palates a great experience.&nbsp\;&nbsp\;</span></p>\n\n<p dir="ltr" style="color: rgb(36\, 36\, 36)\; font-family: &quot\;Segoe UI&quot\;\, &quot\;Segoe UI Web (West European)&quot\;\, &quot\;Segoe UI&quot\;\, -apple-system\, BlinkMacSystemFont\, Roboto\, &quot\;Helvetica Neue&quot\;\, sans-serif\; font-size: 15px\; line-height: 1.38\;"><span style="border: 0px\; font-style: inherit\; font-variant-ligatures: inherit\; font-variant-caps: inherit\; font-variant-numeric: normal\; font-variant-east-asian: normal\; font-variant-alternates: normal\; font-weight: inherit\; font-stretch: inherit\; font-size: inherit\; line-height: inherit\; font-family: Calibri\, sans-serif\; font-optical-sizing: inherit\; font-kerning: inherit\; font-feature-settings: inherit\; font-variation-settings: inherit\; margin: 0px\; padding: 0px\; vertical-align: baseline\; white-space: pre-wrap\; color: rgb(0\, 0\, 0) !important\; background-color: transparent !important\;">The five local nonprofit organizations you will be helping will be: </span><span style="border: 0px\; font-style: inherit\; font-variant-ligatures: inherit\; font-variant-caps: inherit\; font-variant-numeric: normal\; font-variant-east-asian: normal\; font-variant-alternates: normal\; font-weight: 700\; font-stretch: inherit\; font-size: inherit\; line-height: inherit\; font-family: Calibri\, sans-serif\; font-optical-sizing: inherit\; font-kerning: inherit\; font-feature-settings: inherit\; font-variation-settings: inherit\; margin: 0px\; padding: 0px\; vertical-align: baseline\; white-space: pre-wrap\; color: rgb(0\, 0\, 0) !important\; background-color: transparent !important\;">Allendale Association</span><span style="border: 0px\; font-style: inherit\; font-variant-ligatures: inherit\; font-variant-caps: inherit\; font-variant-numeric: normal\; font-variant-east-asian: normal\; font-variant-alternates: normal\; font-weight: inherit\; font-stretch: inherit\; font-size: inherit\; line-height: inherit\; font-family: Calibri\, sans-serif\; font-optical-sizing: inherit\; font-kerning: inherit\; font-feature-settings: inherit\; font-variation-settings: inherit\; margin: 0px\; padding: 0px\; vertical-align: baseline\; white-space: pre-wrap\; color: rgb(0\, 0\, 0) !important\; background-color: transparent !important\;">\, offering a variety of therapeutic programs and services for children and their families with emotional and behavioral challenges. </span><span style="border: 0px\; font-style: inherit\; font-variant-ligatures: inherit\; font-variant-caps: inherit\; font-variant-numeric: normal\; font-variant-east-asian: normal\; font-variant-alternates: normal\; font-weight: 700\; font-stretch: inherit\; font-size: inherit\; line-height: inherit\; font-family: Calibri\, sans-serif\; font-optical-sizing: inherit\; font-kerning: inherit\; font-feature-settings: inherit\; font-variation-settings: inherit\; margin: 0px\; padding: 0px\; vertical-align: baseline\; white-space: pre-wrap\; color: rgb(0\, 0\, 0) !important\; background-color: transparent !important\;">Save-a-Pet</span><span style="border: 0px\; font-style: inherit\; font-variant-ligatures: inherit\; font-variant-caps: inherit\; font-variant-numeric: normal\; font-variant-east-asian: normal\; font-variant-alternates: normal\; font-weight: inherit\; font-stretch: inherit\; font-size: inherit\; line-height: inherit\; font-family: Calibri\, sans-serif\; font-optical-sizing: inherit\; font-kerning: inherit\; font-feature-settings: inherit\; font-variation-settings: inherit\; margin: 0px\; padding: 0px\; vertical-align: baseline\; white-space: pre-wrap\; color: rgb(0\, 0\, 0) !important\; background-color: transparent !important\;">\, one of the largest no-kill cat and dog rescues in Lake County that operates a full-time adoption center for abused\, neglected\, injured or lost animals. </span><span style="border: 0px\; font-style: inherit\; font-variant-ligatures: inherit\; font-variant-caps: inherit\; font-variant-numeric: normal\; font-variant-east-asian: normal\; font-variant-alternates: normal\; font-weight: 700\; font-stretch: inherit\; font-size: inherit\; line-height: inherit\; font-family: Calibri\, sans-serif\; font-optical-sizing: inherit\; font-kerning: inherit\; font-feature-settings: inherit\; font-variation-settings: inherit\; margin: 0px\; padding: 0px\; vertical-align: baseline\; white-space: pre-wrap\; color: rgb(0\, 0\, 0) !important\; background-color: transparent !important\;">Elderwerks</span><span style="border: 0px\; font-style: inherit\; font-variant-ligatures: inherit\; font-variant-caps: inherit\; font-variant-numeric: normal\; font-variant-east-asian: normal\; font-variant-alternates: normal\; font-weight: inherit\; font-stretch: inherit\; font-size: inherit\; line-height: inherit\; font-family: Calibri\, sans-serif\; font-optical-sizing: inherit\; font-kerning: inherit\; font-feature-settings: inherit\; font-variation-settings: inherit\; margin: 0px\; padding: 0px\; vertical-align: baseline\; white-space: pre-wrap\; color: rgb(0\, 0\, 0) !important\; background-color: transparent !important\;">\, providing help with any type of senior housing or elder care solutions\, for you or your loved ones\, free of charge. </span><span style="border: 0px\; font-style: inherit\; font-variant-ligatures: inherit\; font-variant-caps: inherit\; font-variant-numeric: normal\; font-variant-east-asian: normal\; font-variant-alternates: normal\; font-weight: 700\; font-stretch: inherit\; font-size: inherit\; line-height: inherit\; font-family: Calibri\, sans-serif\; font-optical-sizing: inherit\; font-kerning: inherit\; font-feature-settings: inherit\; font-variation-settings: inherit\; margin: 0px\; padding: 0px\; vertical-align: baseline\; white-space: pre-wrap\; color: rgb(0\, 0\, 0) !important\; background-color: transparent !important\;">Jeeps on the Run</span><span style="border: 0px\; font-style: inherit\; font-variant-ligatures: inherit\; font-variant-caps: inherit\; font-variant-numeric: normal\; font-variant-east-asian: normal\; font-variant-alternates: normal\; font-weight: inherit\; font-stretch: inherit\; font-size: inherit\; line-height: inherit\; font-family: Calibri\, sans-serif\; font-optical-sizing: inherit\; font-kerning: inherit\; font-feature-settings: inherit\; font-variation-settings: inherit\; margin: 0px\; padding: 0px\; vertical-align: baseline\; white-space: pre-wrap\; color: rgb(0\, 0\, 0) !important\; background-color: transparent !important\;">\, philanthropic Jeep owners that raise money for the community supporting Toys for Tots (with almost $1\,000\,000 in donations) as well as raising money for breast cancer\, heart disease\, St. Baldrick&#39\;s\, St. Jude and local food pantries. <strong>Chain O&#39\;Lakes Area Chamber of Commerce High School Scholarship Fund</strong>\, which provides a scholarship to one college bound high school senior from each of our three high schools\, Richmond Burton High School\, Grant Community High School\, and Wauconda High School.</span></p>\n<br />\n<br style="font-size: 15px\;" />\n&nbsp\;
LOCATION:Richardson's Adventure Farm 909 English Prairie Rd Spring Grove\, IL 60081
UID:e.2066.5127
SEQUENCE:3
DTSTAMP:20260419T171507Z
URL:https://dev.chainolakeschamber.com/events/details/b4-fest-admission-tickets-5127
END:VEVENT

END:VCALENDAR
