BEGIN:VCALENDAR
VERSION:2.0
PRODID:-//ChamberMaster//Event Calendar 2.0//EN
METHOD:PUBLISH
X-PUBLISHED-TTL:P3D
REFRESH-INTERVAL:P3D
CALSCALE:GREGORIAN
BEGIN:VEVENT
DTSTART:20220930T150000Z
DTEND:20221001T210000Z
X-MICROSOFT-CDO-ALLDAYEVENT:FALSE
SUMMARY:"Autumn at Allendale"- Fall Plant Sale and Fall Festival!
DESCRIPTION:"Autumn at Allendale" Fall Fest and Plant Sale\n\nFriday\, September 30th & Saturday\, October 1st Greenhouse and Woodshop Sales\n\n10:00 a.m.   4:00 p.m. (Friday and Saturday) Autumn Games and Hayrides   1:00pm   3:00pm (Saturday Only) Sponsorships Available!\n\n\n\n$50   Carnival Games Sponsor $125   Anniversary Sponsor\n\n$250   Food Truck Sponsor $500   Hayride Sponsor\n\n\n\nTo Sponsor\, visit www.allendale4kids.org or call 847-245-6216!
X-ALT-DESC;FMTTYPE=text/html:<p><span style="font-family:comic sans ms"><tt><span style="color:rgb(68\, 68\, 68)\; font-size:16px">&ldquo\;Autumn at Allendale&rdquo\; Fall Fest and Plant Sale<br />\nFriday\, September 30th &amp\; Saturday\, October 1st Greenhouse and Woodshop Sales<br />\n10:00 a.m. &ndash\; 4:00 p.m. (Friday and Saturday) Autumn Games and Hayrides &ndash\; 1:00pm &ndash\; 3:00pm (Saturday Only) Sponsorships Available!</span><br />\n<br />\n<span style="color:rgb(68\, 68\, 68)\; font-size:16px">$50 &ndash\; Carnival Games Sponsor $125 &ndash\; Anniversary Sponsor</span><br />\n<span style="color:rgb(68\, 68\, 68)\; font-size:16px">$250 &ndash\; Food Truck Sponsor $500 &ndash\; Hayride Sponsor</span><br />\n<br />\n<span style="color:rgb(68\, 68\, 68)\; font-size:16px">To Sponsor\, visit www.allendale4kids.org or call 847-245-6216!</span></tt></span></p>\n
LOCATION:Our Red Barn & Greenhouse are located between Route 59 & Route 83 on Grand Avenue (Route 132) in Lake Villa.
UID:e.2066.4143
SEQUENCE:3
DTSTAMP:20260422T105806Z
URL:https://dev.chainolakeschamber.com/events/details/autumn-at-allendale-fall-plant-sale-4143
END:VEVENT

END:VCALENDAR
