BEGIN:VCALENDAR
VERSION:2.0
PRODID:-//ChamberMaster//Event Calendar 2.0//EN
METHOD:PUBLISH
X-PUBLISHED-TTL:P3D
REFRESH-INTERVAL:P3D
CALSCALE:GREGORIAN
BEGIN:VEVENT
DTSTART:20210511T140000Z
DTEND:20210511T160000Z
X-MICROSOFT-CDO-ALLDAYEVENT:FALSE
SUMMARY:Applaud and Appreciate: Engaging and Motivating Employees
DESCRIPTION:A key function of leadership at any level is motivating others. Employees are far more engaged\, productive and loyal when they know their efforts are recognized and rewarded. We all want to bring out the best in our teams\, and unleash maximum potential. Knowing how and when to applaud and appreciate the efforts of others goes a long way in making this happen.
X-ALT-DESC;FMTTYPE=text/html:A key function of leadership at any level is motivating others. Employees are far more engaged\, productive and loyal when they know their efforts are recognized and rewarded. We all want to bring out the best in our teams\, and unleash maximum potential. Knowing how and when to applaud and appreciate the efforts of others goes a long way in making this happen.
LOCATION:Live Zoom
UID:e.2066.3950
SEQUENCE:3
DTSTAMP:20260423T143352Z
URL:https://dev.chainolakeschamber.com/events/details/applaud-and-appreciate-engaging-and-motivating-employees-3950
END:VEVENT

END:VCALENDAR
