BEGIN:VCALENDAR
VERSION:2.0
PRODID:-//ChamberMaster//Event Calendar 2.0//EN
METHOD:PUBLISH
X-PUBLISHED-TTL:P3D
REFRESH-INTERVAL:P3D
CALSCALE:GREGORIAN
BEGIN:VEVENT
DTSTART:20180623T150000Z
DTEND:20180624T220000Z
X-MICROSOFT-CDO-ALLDAYEVENT:FALSE
SUMMARY:Anderson's Annual Customer Appreciation Party!
DESCRIPTION:Come celebrate 99 years of friends\, family and great chocolate!\n\n\n\nWe'll host a party on our lawn at 10301 N. Main St. in Richmond\, IL on the last Saturday and Sunday in June.\n\n\n\nThere will be live music\, and of course our FREE Mini Donuts! We'll also serve $2 Ice Cream and have LOTS of chocolate samples!\n\n\n\nWe are bringing back the special Gift Store Clearance section outside on the lawn and Face Painting for kids\, too! :)\n\n\n\nYour old favorites like our display of antique candy making equipment\, yard games and more will also be back!\n\n\n\nPlus we'll have a special map of locations to enjoy discounts throughout downtown Richmond simply for being an Anderson's Candy customer!\n\n\n\nWe hope to see multiple generations of Employees\, Customers and Family at the party to share stories and enjoy each other's company!\n\n\n\nCheck back for more details on FREE Trivia and FREE BINGO with Prizes\, too! We can't wait to see you there!
X-ALT-DESC;FMTTYPE=text/html:<span style="display: inline !important\; float: none\; background-color: transparent\; color: rgb(75\, 79\, 86)\; font-family: Helvetica\,Arial\,sans-serif\; font-size: 14px\; font-style: normal\; font-variant: normal\; font-weight: 400\; letter-spacing: normal\; orphans: 2\; text-align: left\; text-decoration: none\; text-indent: 0px\; text-transform: none\; -webkit-text-stroke-width: 0px\; white-space: normal\; word-spacing: 0px\;">Come celebrate 99 years of friends\, family and great chocolate!</span><br style="background-color: transparent\; color: rgb(75\, 79\, 86)\; display: inline\; font-family: Helvetica\,Arial\,sans-serif\; font-size: 14px\; font-style: normal\; font-variant: normal\; font-weight: 400\; letter-spacing: normal\; orphans: 2\; text-align: left\; text-decoration: none\; text-indent: 0px\; text-transform: none\; -webkit-text-stroke-width: 0px\; white-space: normal\; word-spacing: 0px\;" />\n<br style="background-color: transparent\; color: rgb(75\, 79\, 86)\; display: inline\; font-family: Helvetica\,Arial\,sans-serif\; font-size: 14px\; font-style: normal\; font-variant: normal\; font-weight: 400\; letter-spacing: normal\; orphans: 2\; text-align: left\; text-decoration: none\; text-indent: 0px\; text-transform: none\; -webkit-text-stroke-width: 0px\; white-space: normal\; word-spacing: 0px\;" />\n<span style="display: inline !important\; float: none\; background-color: transparent\; color: rgb(75\, 79\, 86)\; font-family: Helvetica\,Arial\,sans-serif\; font-size: 14px\; font-style: normal\; font-variant: normal\; font-weight: 400\; letter-spacing: normal\; orphans: 2\; text-align: left\; text-decoration: none\; text-indent: 0px\; text-transform: none\; -webkit-text-stroke-width: 0px\; white-space: normal\; word-spacing: 0px\;">We&#39\;ll host a party on our lawn at 10301 N. Main St. in Richmond\, IL on the last Saturday and Sunday in June.</span><br style="background-color: transparent\; color: rgb(75\, 79\, 86)\; display: inline\; font-family: Helvetica\,Arial\,sans-serif\; font-size: 14px\; font-style: normal\; font-variant: normal\; font-weight: 400\; letter-spacing: normal\; orphans: 2\; text-align: left\; text-decoration: none\; text-indent: 0px\; text-transform: none\; -webkit-text-stroke-width: 0px\; white-space: normal\; word-spacing: 0px\;" />\n<br style="background-color: transparent\; color: rgb(75\, 79\, 86)\; display: inline\; font-family: Helvetica\,Arial\,sans-serif\; font-size: 14px\; font-style: normal\; font-variant: normal\; font-weight: 400\; letter-spacing: normal\; orphans: 2\; text-align: left\; text-decoration: none\; text-indent: 0px\; text-transform: none\; -webkit-text-stroke-width: 0px\; white-space: normal\; word-spacing: 0px\;" />\n<span style="display: inline !important\; float: none\; background-color: transparent\; color: rgb(75\, 79\, 86)\; font-family: Helvetica\,Arial\,sans-serif\; font-size: 14px\; font-style: normal\; font-variant: normal\; font-weight: 400\; letter-spacing: normal\; orphans: 2\; text-align: left\; text-decoration: none\; text-indent: 0px\; text-transform: none\; -webkit-text-stroke-width: 0px\; white-space: normal\; word-spacing: 0px\;">There will be live music\, and of course our FREE Mini Donuts! We&#39\;ll also serve $2 Ice Cream and have LOTS of chocolate samples!</span><br style="background-color: transparent\; color: rgb(75\, 79\, 86)\; display: inline\; font-family: Helvetica\,Arial\,sans-serif\; font-size: 14px\; font-style: normal\; font-variant: normal\; font-weight: 400\; letter-spacing: normal\; orphans: 2\; text-align: left\; text-decoration: none\; text-indent: 0px\; text-transform: none\; -webkit-text-stroke-width: 0px\; white-space: normal\; word-spacing: 0px\;" />\n<br style="background-color: transparent\; color: rgb(75\, 79\, 86)\; display: inline\; font-family: Helvetica\,Arial\,sans-serif\; font-size: 14px\; font-style: normal\; font-variant: normal\; font-weight: 400\; letter-spacing: normal\; orphans: 2\; text-align: left\; text-decoration: none\; text-indent: 0px\; text-transform: none\; -webkit-text-stroke-width: 0px\; white-space: normal\; word-spacing: 0px\;" />\n<span style="display: inline !important\; float: none\; background-color: transparent\; color: rgb(75\, 79\, 86)\; font-family: Helvetica\,Arial\,sans-serif\; font-size: 14px\; font-style: normal\; font-variant: normal\; font-weight: 400\; letter-spacing: normal\; orphans: 2\; text-align: left\; text-decoration: none\; text-indent: 0px\; text-transform: none\; -webkit-text-stroke-width: 0px\; white-space: normal\; word-spacing: 0px\;">We are bringing back the special Gift Store Clearance section outside on the lawn and Face Painting for kids\, too! :)</span><br style="background-color: transparent\; color: rgb(75\, 79\, 86)\; display: inline\; font-family: Helvetica\,Arial\,sans-serif\; font-size: 14px\; font-style: normal\; font-variant: normal\; font-weight: 400\; letter-spacing: normal\; orphans: 2\; text-align: left\; text-decoration: none\; text-indent: 0px\; text-transform: none\; -webkit-text-stroke-width: 0px\; white-space: normal\; word-spacing: 0px\;" />\n<br style="background-color: transparent\; color: rgb(75\, 79\, 86)\; display: inline\; font-family: Helvetica\,Arial\,sans-serif\; font-size: 14px\; font-style: normal\; font-variant: normal\; font-weight: 400\; letter-spacing: normal\; orphans: 2\; text-align: left\; text-decoration: none\; text-indent: 0px\; text-transform: none\; -webkit-text-stroke-width: 0px\; white-space: normal\; word-spacing: 0px\;" />\n<span style="display: inline !important\; float: none\; background-color: transparent\; color: rgb(75\, 79\, 86)\; font-family: Helvetica\,Arial\,sans-serif\; font-size: 14px\; font-style: normal\; font-variant: normal\; font-weight: 400\; letter-spacing: normal\; orphans: 2\; text-align: left\; text-decoration: none\; text-indent: 0px\; text-transform: none\; -webkit-text-stroke-width: 0px\; white-space: normal\; word-spacing: 0px\;">Your old favorites like our display of antique candy making equipment\, yard games and more will also be back!</span><br style="background-color: transparent\; color: rgb(75\, 79\, 86)\; display: inline\; font-family: Helvetica\,Arial\,sans-serif\; font-size: 14px\; font-style: normal\; font-variant: normal\; font-weight: 400\; letter-spacing: normal\; orphans: 2\; text-align: left\; text-decoration: none\; text-indent: 0px\; text-transform: none\; -webkit-text-stroke-width: 0px\; white-space: normal\; word-spacing: 0px\;" />\n<br style="background-color: transparent\; color: rgb(75\, 79\, 86)\; display: inline\; font-family: Helvetica\,Arial\,sans-serif\; font-size: 14px\; font-style: normal\; font-variant: normal\; font-weight: 400\; letter-spacing: normal\; orphans: 2\; text-align: left\; text-decoration: none\; text-indent: 0px\; text-transform: none\; -webkit-text-stroke-width: 0px\; white-space: normal\; word-spacing: 0px\;" />\n<span style="display: inline !important\; float: none\; background-color: transparent\; color: rgb(75\, 79\, 86)\; font-family: Helvetica\,Arial\,sans-serif\; font-size: 14px\; font-style: normal\; font-variant: normal\; font-weight: 400\; letter-spacing: normal\; orphans: 2\; text-align: left\; text-decoration: none\; text-indent: 0px\; text-transform: none\; -webkit-text-stroke-width: 0px\; white-space: normal\; word-spacing: 0px\;">Plus we&#39\;ll have a special map of locations to enjoy discounts throughout downtown Richmond simply for being an Anderson&#39\;s Candy customer!</span><br style="background-color: transparent\; color: rgb(75\, 79\, 86)\; display: inline\; font-family: Helvetica\,Arial\,sans-serif\; font-size: 14px\; font-style: normal\; font-variant: normal\; font-weight: 400\; letter-spacing: normal\; orphans: 2\; text-align: left\; text-decoration: none\; text-indent: 0px\; text-transform: none\; -webkit-text-stroke-width: 0px\; white-space: normal\; word-spacing: 0px\;" />\n<br style="display: inline\; font-family: Helvetica\,Arial\,sans-serif\;" />\n<span class="text_exposed_show" style="background-color: transparent\; color: rgb(75\, 79\, 86)\; display: inline\; font-family: Helvetica\,Arial\,sans-serif\; font-size: 14px\; font-style: normal\; font-variant: normal\; font-weight: 400\; letter-spacing: normal\; orphans: 2\; text-align: left\; text-decoration: none\; text-indent: 0px\; text-transform: none\; -webkit-text-stroke-width: 0px\; white-space: normal\; word-spacing: 0px\;">We hope to see multiple generations of Employees\, Customers and Family at the party to share stories and enjoy each other&#39\;s company!<br style="display: inline\; font-family: Helvetica\,Arial\,sans-serif\;" />\n<br style="display: inline\; font-family: Helvetica\,Arial\,sans-serif\;" />\nCheck back for more details on FREE Trivia and FREE BINGO with Prizes\, too! We can&#39\;t wait to see you there!</span>
LOCATION:Anderson's Candy Shop 10301 N Main St Richmond\, IL
UID:e.2066.1108
SEQUENCE:3
DTSTAMP:20260425T221922Z
URL:https://dev.chainolakeschamber.com/events/details/anderson-s-annual-customer-appreciation-party-1108
END:VEVENT

END:VCALENDAR
