BEGIN:VCALENDAR
VERSION:2.0
PRODID:-//ChamberMaster//Event Calendar 2.0//EN
METHOD:PUBLISH
X-PUBLISHED-TTL:P3D
REFRESH-INTERVAL:P3D
CALSCALE:GREGORIAN
BEGIN:VEVENT
DTSTART:20230520T130000Z
DTEND:20230520T173000Z
X-MICROSOFT-CDO-ALLDAYEVENT:FALSE
SUMMARY:America's Boating Club - Boating Safety Course (3-Day Event)
DESCRIPTION:America's Boating Club of Waukegan is a unit of the United States Power Squadron. They are hosting a three-session Boating Safety Course at the Fox Waterway Agency on May 6th\, 13th & 20th. Please note that you must be in attendance for all three days in order to successfully pass the course. \n\n\n\nThis three-session course is designed to present basic boating fundamentals useful to either novice or experienced boaters operating on inland lakes and waterways such as the Chain O'Lakes\, or on open water such as the Great Lakes. Included are a course review and final exam. Individuals who satisfactorily complete the course will meet the Illinois Boating Safety requirements.\n\n\n\nPlease visit the Fox Waterway Agency Safety Page for more information. \n\n\n\nhttps://www.foxwaterway.com/safety/
X-ALT-DESC;FMTTYPE=text/html:America&#39\;s Boating Club of Waukegan is a unit of the United States Power Squadron. They are hosting a three-session Boating Safety Course at the Fox Waterway Agency on May 6th\, 13th &amp\; 20th. Please note that you must be in attendance for all three days in order to successfully pass the course.&nbsp\;<br />\n<br />\nThis three-session course is designed to present basic boating fundamentals useful to either novice or experienced boaters operating on inland lakes and waterways such as the Chain O&rsquo\;Lakes\, or on open water such as the Great Lakes. Included are a course review and final exam. Individuals who satisfactorily complete the course will meet the Illinois Boating Safety requirements.<br />\n<br />\nPlease visit the Fox Waterway Agency Safety Page for more information.&nbsp\;<br />\n<br />\nhttps://www.foxwaterway.com/safety/&nbsp\;
LOCATION:Fox Waterway Agency 45 S. Pistakee Lake Road Fox Lake\, IL 60020
UID:e.2066.5020
SEQUENCE:3
DTSTAMP:20260419T172945Z
URL:https://dev.chainolakeschamber.com/events/details/america-s-boating-club-boating-safety-course-3-day-event-05-20-2023-5020
END:VEVENT

END:VCALENDAR
