BEGIN:VCALENDAR
VERSION:2.0
PRODID:-//ChamberMaster//Event Calendar 2.0//EN
METHOD:PUBLISH
X-PUBLISHED-TTL:P3D
REFRESH-INTERVAL:P3D
CALSCALE:GREGORIAN
BEGIN:VEVENT
DTSTART:20230817T233000Z
DTEND:20230818T013000Z
X-MICROSOFT-CDO-ALLDAYEVENT:FALSE
SUMMARY:Alpaca Yoga + Yoga UnWined = Yogapaca UnWined
DESCRIPTION:Join us for an evening to relax and unwind...or UnWine[d]...at Magic Meadows Alpaca Farm with a fun and relaxing yoga class followed by wine and savory snacks! \n\n \nDuring our yoga class you will get to meet Sally's sweet female alpacas\, learn about her farm\, and enjoy a yoga class with Dana while the alpacas join in the fun too!\n\nThis special event will be taught by Sweet Feet Yoga owner\, Dana Robinson. Come in just as you are (no yoga experience needed)\, invite a friend to join you\, and enjoy a class that will be filled with fun and laughter as well as relaxation and rejuvenation. For all levels of yoga\, even newbies.\n\nAdults only.\n\n\n\nWe also have cute alpaca products for purchase for yourself or as a gift.
X-ALT-DESC;FMTTYPE=text/html:<div>Join us for an evening to relax and unwind...or UnWine[d]...at Magic Meadows Alpaca Farm with a fun and relaxing yoga class followed by wine and savory snacks!&nbsp\;</div>\n\n<div>&nbsp\;</div>\nDuring our yoga class you will get to meet Sally&#39\;s sweet female alpacas\, learn about her farm\, and enjoy a yoga class with Dana while the alpacas join in the fun too!\n\n<p>This special event will be taught by Sweet Feet Yoga owner\, Dana Robinson. Come in just as you are (no yoga experience needed)\, invite a friend to join you\, and enjoy a class that will be filled with fun and laughter as well as relaxation and rejuvenation. For all levels of yoga\, even newbies.<br />\nAdults only.<br />\n<br />\nWe also have cute alpaca products for purchase for yourself or as a gift.<br />\n<br />\n&nbsp\;</p>\n
LOCATION:Magic Meadows Alpacas\, 9502 Thayer Road\, Wonder Lake IL 60097
UID:e.2066.5329
SEQUENCE:3
DTSTAMP:20260419T122232Z
URL:https://dev.chainolakeschamber.com/events/details/alpaca-yoga-yoga-unwined-yogapaca-unwined-5329
END:VEVENT

END:VCALENDAR
