BEGIN:VCALENDAR
VERSION:2.0
PRODID:-//ChamberMaster//Event Calendar 2.0//EN
METHOD:PUBLISH
X-PUBLISHED-TTL:P3D
REFRESH-INTERVAL:P3D
CALSCALE:GREGORIAN
BEGIN:VEVENT
DTSTART:20220506T150000Z
DTEND:20220507T210000Z
X-MICROSOFT-CDO-ALLDAYEVENT:FALSE
SUMMARY:Allendale Spring Plant Sale!
DESCRIPTION:Featuring a large assortment of hanging baskets\, annuals\, vegetables\, herbs\, succulents and other varieties. "Growing with your support" Stop on in for your spring planting needs: May 6th and 7th from 10:00am - 4:00pm! Call 847-245-6361 for more information! Plants grown and cared for by students in Allendale's prevocational horticultural classes.
X-ALT-DESC;FMTTYPE=text/html:Featuring a large assortment of hanging baskets\, annuals\, vegetables\, herbs\, succulents and other varieties. &quot\;Growing with your support&quot\; Stop on in for your spring planting needs: May 6th and 7th from 10:00am - 4:00pm! Call 847-245-6361 for more information! Plants grown and cared for by students in Allendale&#39\;s prevocational horticultural classes.
LOCATION:Allendale Association 600 West Grand Avenue\, Lake Villa IL
UID:e.2066.4491
SEQUENCE:3
DTSTAMP:20260422T204624Z
URL:https://dev.chainolakeschamber.com/events/details/allendale-spring-plant-sale-4491
END:VEVENT

END:VCALENDAR
