BEGIN:VCALENDAR
VERSION:2.0
PRODID:-//ChamberMaster//Event Calendar 2.0//EN
METHOD:PUBLISH
X-PUBLISHED-TTL:P3D
REFRESH-INTERVAL:P3D
CALSCALE:GREGORIAN
BEGIN:VEVENT
DTSTART:20230512T150000Z
DTEND:20230512T210000Z
X-MICROSOFT-CDO-ALLDAYEVENT:FALSE
SUMMARY:Allendale Spring Plant Sale
DESCRIPTION:Allendale's Greenhouse & Horticulture students have been hard at work growing and caring for a large assortment of plants and flowers for our Annual Spring Plant Sale! Feauring Hanging Baskets\, Annuals\, Vegetables\, Herbs\, Succulents & Other Uncommon Varieties of Plants at Reasonable Prices. Come see us Mother's Day weekend! Fri. May 12 & Sat. May 13 - 10:00 a.m. - 4:00 p.m. both days We're located between Route 59 & Route 83 on Grand Avenue (Route 132) in Lake Villa. For more information\, call 847.245.6361.
X-ALT-DESC;FMTTYPE=text/html:Allendale&#39\;s Greenhouse &amp\; Horticulture students have been hard at work growing and caring for a large assortment of plants and flowers for our Annual Spring Plant Sale! Feauring Hanging Baskets\, Annuals\, Vegetables\, Herbs\, Succulents &amp\; Other Uncommon Varieties of Plants at Reasonable Prices. Come see us Mother&#39\;s Day weekend! Fri. May 12 &amp\; Sat. May 13 - 10:00 a.m. - 4:00 p.m. both days We&rsquo\;re located between Route 59 &amp\; Route 83 on Grand Avenue (Route 132) in Lake Villa. For more information\, call 847.245.6361.
LOCATION:We're located between Route 59 & Route 83 on Grand Avenue (Route 132) in Lake Villa
UID:e.2066.5125
SEQUENCE:3
DTSTAMP:20260419T190017Z
URL:https://dev.chainolakeschamber.com/events/details/allendale-spring-plant-sale-05-12-2023-5125
END:VEVENT

END:VCALENDAR
