BEGIN:VCALENDAR
VERSION:2.0
PRODID:-//ChamberMaster//Event Calendar 2.0//EN
METHOD:PUBLISH
X-PUBLISHED-TTL:P3D
REFRESH-INTERVAL:P3D
CALSCALE:GREGORIAN
BEGIN:VEVENT
DTSTART:20221102T223000Z
DTEND:20221102T233000Z
X-MICROSOFT-CDO-ALLDAYEVENT:FALSE
SUMMARY:Allendale Shelter Club Hope for the Holidays
DESCRIPTION:Please join us in support of Allendale's youth\, programs and services.
X-ALT-DESC;FMTTYPE=text/html:Please join us in support of Allendale&#39\;s youth\, programs and services.
LOCATION:Wine Tasting by Courtyard Wines: 5:30-6:30PM The Arcade on Deerpath 272 E. Deerpath Road Lake Forest\, IL $25 LeColonial Cocktail Party 6:30-8:30PM 655 Forest Ave Lake Forest\, IL $150 (includes Wine Tasting)
UID:e.2066.4646
SEQUENCE:3
DTSTAMP:20260422T091552Z
URL:https://dev.chainolakeschamber.com/events/details/allendale-shelter-club-hope-for-the-holidays-4646
END:VEVENT

END:VCALENDAR
