BEGIN:VCALENDAR
VERSION:2.0
PRODID:-//ChamberMaster//Event Calendar 2.0//EN
METHOD:PUBLISH
X-PUBLISHED-TTL:P3D
REFRESH-INTERVAL:P3D
CALSCALE:GREGORIAN
BEGIN:VEVENT
DTSTART:20230218T010000Z
DTEND:20230218T022500Z
X-MICROSOFT-CDO-ALLDAYEVENT:FALSE
SUMMARY:Allendale's Virtual Game Night Fundraiser!
DESCRIPTION:ALLENDALE'S VIRTUAL GAME NIGHT!\n\nHAVE FUN WHILE RAISING FUNDS TO SUPPORT OUR YOUTH! \n\n\n\n-Each Individual on the final winning team will be awarded a $25 Gift Card. Special Raffle Drawings will follow the 1st & 2nd Rounds.\n\n\n\nSPONSORSHIP OPPORTUNITIES:\n\n\n	Virtual Program Sponsors - $250 l Logo/Name displayed on virtual program at event l Logo/Name displayed on all materials l Verbal introductions at start of the event\n	Trivia Round Sponsors - $150 l Logo/Name displayed as sponsor of 1 round l Logo/Name displayed on website and social media\n	Event/Raffle Sponsors - $100 l Logo/Name displayed on website and social media l Sponsor of items for Raffle Baskets
X-ALT-DESC;FMTTYPE=text/html:<p>ALLENDALE&#39\;S VIRTUAL GAME NIGHT!</p>\n\n<p>HAVE FUN WHILE RAISING FUNDS TO SUPPORT OUR YOUTH!&nbsp\;<br />\n<br />\n-Each Individual on the final winning team will be awarded a $25 Gift Card. Special Raffle Drawings will follow the 1st &amp\; 2nd Rounds.<br />\n<br />\nSPONSORSHIP OPPORTUNITIES:</p>\n\n<ul>\n	<li>Virtual Program Sponsors - $250 l Logo/Name displayed on virtual program at event l Logo/Name displayed on all materials l Verbal introductions at start of the event</li>\n	<li>Trivia Round Sponsors - $150 l Logo/Name displayed as sponsor of 1 round l Logo/Name displayed on website and social media</li>\n	<li>Event/Raffle Sponsors - $100 l Logo/Name displayed on website and&nbsp\;social media l Sponsor of items for Raffle Baskets</li>\n</ul>\n
LOCATION:Online Zoom Gaming Experience!
UID:e.2066.4936
SEQUENCE:3
DTSTAMP:20260419T222955Z
URL:https://dev.chainolakeschamber.com/events/details/allendale-s-virtual-game-night-fundraiser-4936
END:VEVENT

END:VCALENDAR
