BEGIN:VCALENDAR
VERSION:2.0
PRODID:-//ChamberMaster//Event Calendar 2.0//EN
METHOD:PUBLISH
X-PUBLISHED-TTL:P3D
REFRESH-INTERVAL:P3D
CALSCALE:GREGORIAN
BEGIN:VEVENT
DTSTART:20230520T130000Z
DTEND:20230520T153000Z
X-MICROSOFT-CDO-ALLDAYEVENT:FALSE
SUMMARY:Allendale 'Hustle for Hope' 5K Family Fun Run
DESCRIPTION:Please join us for Allendale's first "Hustle for Hope" 5K Family Fun Run on May 20th at our historic campus in Lake Villa\, IL. Both the competitive runner and casual walking family can enjoy our beautiful campus that winds along the shores of Cedar Lake.\n\nPrior to Race Day\n\nPackets are available at Allendale Association (420 West Grand Avenue\, Lake Villa) the week of May 14th. Three dates and times will be announced in March)\n\n\n\nRace Day\n\nPackets will also be available for pick-up at the race site on the morning of the race from 7:30 8:00 a.m.\n\n\n\nAmenities\n\n-Free race t-shirts with registration\n\n-Complimentary food and beverages before and afterwards\n\n-Ample parking in lot at site\n\n-Games and Activities \n\nEntry Fees\n\n-$10 Kids (up to age 13) Must be accompanied by a parent or guardian)\n\n\n\n-$30 Early Adult Registration\n\n(March 6th   April 15th)\n\n\n\n -$35 Adult Registration\n\n(April 15th   May 20th)
X-ALT-DESC;FMTTYPE=text/html:<h3><span style="font-family:arial\,helvetica\,sans-serif\; font-size:12px">Please join us for Allendale&rsquo\;s first&nbsp\;&ldquo\;Hustle for Hope&rdquo\; 5K Family Fun Run&nbsp\;on May 20</span><span style="font-family:arial\,helvetica\,sans-serif\; font-size:12px">th</span><span style="font-family:arial\,helvetica\,sans-serif\; font-size:12px">&nbsp\;at our historic campus in Lake Villa\, IL. Both the competitive runner and casual walking family can enjoy our beautiful campus that winds along the shores of Cedar Lake.</span></h3>\n\n<p><span style="font-size:12px"><span style="font-family:arial\,helvetica\,sans-serif"><strong>Prior to Race Day</strong><br />\nPackets are available at Allendale Association (420 West Grand Avenue\, Lake Villa) the week of May 14<span style="font-size:9px">th</span>. Three dates and times will be announced in March)<br />\n<br />\n<strong>Race Day</strong><br />\nPackets will also be available for pick-up at the race site on the morning of the race from 7:30&ndash\;8:00 a.m.<br />\n<br />\n<strong><span style="color:black">Amenities</span></strong><br />\n<span style="color:black">-Free race t-shirts with registration</span><br />\n<span style="color:black">-Complimentary food and beverages before and afterwards</span><br />\n<span style="color:black">-Ample parking in lot at site<br />\n-Games and Activities&nbsp\;</span></span></span></p>\n\n<p><span style="font-size:12px"><span style="font-family:arial\,helvetica\,sans-serif"><strong>Entry Fees</strong><br />\n-$10 Kids (up to age 13) Must be accompanied by a parent or guardian)<br />\n<br />\n-$30 Early Adult Registration<br />\n(March 6<span style="font-size:9px">th</span>&nbsp\;&ndash\; April 15<span style="font-size:9px">th</span>)<br />\n<br />\n&nbsp\;-$35 Adult Registration<br />\n(April 15<span style="font-size:9px">th&nbsp\;</span>&ndash\; May 20<span style="font-size:9px">th</span>)</span></span></p>\n
LOCATION:Allendale Association (Bradley Counseling Center) 420 West Grand Avenue Lake Villa
UID:e.2066.5036
SEQUENCE:3
DTSTAMP:20260419T190057Z
URL:https://dev.chainolakeschamber.com/events/details/allendale-hustle-for-hope-5k-family-fun-run-5036
END:VEVENT

END:VCALENDAR
