BEGIN:VCALENDAR
VERSION:2.0
PRODID:-//ChamberMaster//Event Calendar 2.0//EN
METHOD:PUBLISH
X-PUBLISHED-TTL:P3D
REFRESH-INTERVAL:P3D
CALSCALE:GREGORIAN
BEGIN:VEVENT
DTSTART:20210911T190000Z
DTEND:20210911T220000Z
X-MICROSOFT-CDO-ALLDAYEVENT:FALSE
SUMMARY:All Wheels Car Show - Kelleher & Holland
DESCRIPTION:WINDSHIELD SMASH CONTEST sponsored by Arlington Toyota WINE TASTING by PRP Wine International WHISKEY TASTING by Copper Fiddle Distillery MOUTH-WATERING BBQ by Trainwreck Smoking Company CIGARS by Arlington Pipe & Cigar Lounge KIDS 'ACTIVITIES | SWEET TREATS
X-ALT-DESC;FMTTYPE=text/html:WINDSHIELD SMASH CONTEST sponsored by Arlington Toyota WINE TASTING by PRP Wine International WHISKEY TASTING by Copper Fiddle Distillery MOUTH-WATERING BBQ by Trainwreck Smoking Company CIGARS by Arlington Pipe &amp\; Cigar Lounge KIDS &#39\;ACTIVITIES | SWEET TREATS
LOCATION:Hosted by The Club at Wynstone 1 S Wynstone Dr\, North Barrington
UID:e.2066.4115
SEQUENCE:3
DTSTAMP:20260423T095636Z
URL:https://dev.chainolakeschamber.com/events/details/all-wheels-car-show-kelleher-holland-4115
END:VEVENT

END:VCALENDAR
