BEGIN:VCALENDAR
VERSION:2.0
PRODID:-//ChamberMaster//Event Calendar 2.0//EN
METHOD:PUBLISH
X-PUBLISHED-TTL:P3D
REFRESH-INTERVAL:P3D
CALSCALE:GREGORIAN
BEGIN:VEVENT
DTSTART:20200602T220000Z
DTEND:20200603T000000Z
X-MICROSOFT-CDO-ALLDAYEVENT:FALSE
SUMMARY:Alden's Kennels Multi-State Mixer Cancelled COVID-19
DESCRIPTION:Organizations and members attending last year estimates were 350 we are expected to reach 500 this year with your support. This is free to business owners\, last year we had 39 raffles\, also free\, so if you like to network\, and or win and have food and beverages don't miss this event\, no pets or children\, business networking rom 5pm tp 7pm.\n\n\n\nWonder Lake Chamber\n\nWauconda Area Chamber\n\nWoodstock Chamber of Commerce and Industry\n\nHighland Park Chamber\n\nGLMV Chamber (Green Oaks\, Libertyville\, Mundelein\, Vernon Hills)\n\nMcHenry Area Chamber\n\nRichmond Spring Grove\n\nVisit Lake. Geneva (Chamber & Visitor Bureau)\n\nGeneva Lake West\n\nWalworth County Visitor Bureau \n\nGOA Regional Business Association\n\nBBB (Better Business Bureau)\n\n\n\nWonder Lake Water Show Ski Team\, 5 time National Winners\, a part of the USA Water Ski Team that has won every year since existence. \n\n\n\nVeterans for the Honor Flight direct the traffic\, and parking\, you will be given the red carpet treatment. Rain or shine air controlled buildings are for your comfort.\n\n\n\n\n	Networking
X-ALT-DESC;FMTTYPE=text/html:<div>\n<div><span style="font-family:inherit\; font-size:14px">Organizations and members attending last year estimates were 350 we are expected to reach 500 this year with your support. This is free to business owners\, last year we had 39 raffles\, also free\, so if you like to network\, and or win and have food and beverages don&#39\;t miss this event\, no pets or children\, business networking rom 5pm tp 7pm.<br />\n<br />\nWonder Lake Chamber<br />\nWauconda Area Chamber<br />\nWoodstock Chamber of Commerce and Industry<br />\nHighland Park Chamber<br />\nGLMV Chamber (Green Oaks\, Libertyville\, Mundelein\, Vernon Hills)<br />\nMcHenry Area Chamber<br />\nRichmond Spring Grove<br />\nVisit Lake. Geneva (Chamber &amp\; Visitor Bureau)<br />\nGeneva Lake West<br />\nWalworth County Visitor Bureau&nbsp\;<br />\n<span style="font-family:inherit">GOA Regional Business Association<br />\nBBB (Better Business Bureau)<br />\n<br />\nWonder Lake Water Show Ski Team\, 5 time National Winners\, a part of the USA Water Ski Team that has won every year since existence.&nbsp\;<br />\n<br />\nVeterans for the Honor Flight direct the traffic\, and parking\, you will be given the red carpet treatment. Rain or shine air controlled buildings are for your comfort.</span></span></div>\n</div>\n\n<div>\n<ul style="list-style-type:none">\n	<li><a href="https://www.facebook.com/events/discovery/?acontext=%7B%22source%22%3A1%2C%22action_history%22%3A%22%5B%7B%5C%22surface%5C%22%3A%5C%22page%5C%22%2C%5C%22mechanism%5C%22%3A%5C%22main_list%5C%22%2C%5C%22extra_data%5C%22%3A%5C%22%5C%5C%5C%22%5B%5D%5C%5C%5C%22%5C%22%7D%2C%7B%5C%22surface%5C%22%3A%5C%22permalink%5C%22%2C%5C%22mechanism%5C%22%3A%5C%22surface%5C%22%2C%5C%22extra_data%5C%22%3A%5B%5D%7D%2C%7B%5C%22surface%5C%22%3A%5C%22permalink%5C%22%2C%5C%22mechanism%5C%22%3A%5C%22event_information%5C%22%2C%5C%22extra_data%5C%22%3A%7B%5C%22tag%5C%22%3A%5C%22Networking%5C%22%7D%7D%5D%22%2C%22has_source%22%3Atrue%7D&amp\;suggestion_token=%7B%22event_categories%22%3A%5B1915104302042536%5D%7D" style="color: rgb(54\, 88\, 153)\; cursor: pointer\; text-decoration: none\; font-family: inherit\;"><span style="background-color:rgb(237\, 242\, 250)\; color:rgb(32\, 55\, 95)\; font-family:inherit">Networking</span></a></li>\n</ul>\n</div>\n
LOCATION:Alden's Kennels 6810 Barnard Mill Rd Ringwood\, IL 60072
UID:e.2066.1105
SEQUENCE:3
DTSTAMP:20260424T082051Z
URL:https://dev.chainolakeschamber.com/events/details/alden-s-kennels-multi-state-mixer-cancelled-covid-19-1105
END:VEVENT

END:VCALENDAR
