BEGIN:VCALENDAR
VERSION:2.0
PRODID:-//ChamberMaster//Event Calendar 2.0//EN
METHOD:PUBLISH
X-PUBLISHED-TTL:P3D
REFRESH-INTERVAL:P3D
CALSCALE:GREGORIAN
BEGIN:VEVENT
DTSTART:20200220T010000Z
DTEND:20200220T014500Z
X-MICROSOFT-CDO-ALLDAYEVENT:FALSE
SUMMARY:AKC Canine Good Citizens & Therapy Dog Internaational Group Class
DESCRIPTION:Alden's Kennels Presents Canine Good Citizen Classes\n\n Alden's Kennels will be offering the American Kennel Clubs Canine Good Citizen classes.  Aldem  will teach this Program that is designed to reward dogs that have good manners at home and in the community.  The Canine Good Citizen Program stresses responsible pet ownership and basic good manners for their dogs. Alden's Kennels is a World Class Boarding and Training Facility located in Ringwood\, IL and for registration for this and any additional classes\, please contact us at www.AldensKennels.com.  For additional information\, you may also call 815-728-0559. www.Facebook.com/AldensKennels\nThe Canine Good Citizen (CGC) Program is designed to reward dogs who have good manners at home and in the community. The Canine Good Citizen Program is a program that stresses responsible pet ownership for owners and basic good manners for dogs.  Therapy Dog International is  to be offered in conjuntion with the CGC Class at Alden's Kennels in Ringwood\, please go to the website at www.AldensKennels.com and sign up for a rewarding time for you and your dog! We will also train and prepare you for Therapy Dog International for those that want to ready their dogs for stability and manners in public where allowed.
X-ALT-DESC;FMTTYPE=text/html:<div style="text-align:center"><span style="font-size:12px"><strong><span style="font-family:times new roman">Alden&rsquo\;s Kennels Presents Canine Good Citizen Classes</span></strong></span></div>\n\n<div><span style="font-size:12px">&nbsp\;Alden&rsquo\;s Kennels will be offering the American Kennel Clubs Canine Good Citizen classes. &nbsp\;Aldem &nbsp\;will teach this Program that is designed to reward dogs that have good manners at home and in the community.&nbsp\; The Canine Good Citizen Program stresses responsible pet ownership and basic good manners for their dogs. Alden&rsquo\;s Kennels is a World Class Boarding and Training Facility located in Ringwood\, IL and for registration for this and any additional classes\, please contact us at&nbsp\;<a href="http://www.AldensKennels.com" style="line-height: 1.6\; font-size: 10px\;">www.AldensKennels.com</a>.&nbsp\; For additional information\, you may also call&nbsp\;<strong><a href="tel:815-728-0559">815-728-0559</a>.&nbsp\;</strong>www.Facebook.com/AldensKennels</span></div>\n<span style="font-size:12px"><span style="color:rgb(61\, 45\, 86)">The Canine Good Citizen (CGC) Program is designed to reward dogs who have good manners at home and in the community. The Canine Good Citizen Program is a program that stresses responsible pet ownership for owners and basic good manners for dogs. &nbsp\;Therapy Dog International is &nbsp\;to be offered in conjuntion with the CGC Class at Alden&rsquo\;s Kennels in Ringwood\, please go to the website at www.<strong>AldensKennels.com</strong>&nbsp\;and sign up for a rewarding time for you and your dog! We will also train and prepare you for Therapy Dog International for those that want to ready their dogs for stability and manners in public where allowed.</span></span>
LOCATION:Alden's Kennels 6810 Barnard Mill Rd Ringwood\, IL 60072
UID:e.2066.1102
SEQUENCE:3
DTSTAMP:20260424T155717Z
URL:https://dev.chainolakeschamber.com/events/details/akc-canine-good-citizens-therapy-dog-internaational-group-class-06-13-2018-1102
END:VEVENT

END:VCALENDAR
