BEGIN:VCALENDAR
VERSION:2.0
PRODID:-//ChamberMaster//Event Calendar 2.0//EN
METHOD:PUBLISH
X-PUBLISHED-TTL:P3D
REFRESH-INTERVAL:P3D
CALSCALE:GREGORIAN
BEGIN:VEVENT
DTSTART:20220831T133000Z
DTEND:20220831T203000Z
X-MICROSOFT-CDO-ALLDAYEVENT:FALSE
SUMMARY:Aging Better Expo: Planning Your Future Today
DESCRIPTION:Join Elderwerks for a day-long learning experience where you'll learn in a fun\, engaging in-person expo that includes expert education and tips on aging topics. New this year attendees will have two choices to attend the Expo: in-person and live-stream for educational settings.\n\n\n\nBe sure to follow Elderwerks for updates as we get closer to August 31 to learn about topics\, sponsors\, and resources available to the community.\n\n\n\nFor more information email events@elderwerks.org or phone (847) 462-0885\n\n\n\nWe can't wait to see you in August!
X-ALT-DESC;FMTTYPE=text/html:<span style="font-size:14px"><span style="font-family:arial\,helvetica\,sans-serif">Join Elderwerks for a day-long learning experience where you&#39\;ll learn in a fun\, engaging in-person expo that includes expert education and tips on aging topics. New this year attendees will have two choices to attend the Expo: in-person and live-stream for educational settings.<br />\n<br />\nBe sure to follow Elderwerks for updates as we get closer to August 31 to learn about topics\, sponsors\, and resources available to the community.<br />\n<br />\n<span style="color:rgb(0\, 0\, 0)">For more information email events@elderwerks.org or phone (847) 462-0885</span><br />\n<br />\nWe can&#39\;t wait to see you in August!</span></span>
LOCATION:Triphahn Community Center 1685 W. Higgins Road Hoffman Estates\, IL 60169
UID:e.2066.4533
SEQUENCE:3
DTSTAMP:20260422T135207Z
URL:https://dev.chainolakeschamber.com/events/details/aging-better-expo-planning-your-future-today-4533
END:VEVENT

END:VCALENDAR
