BEGIN:VCALENDAR
VERSION:2.0
PRODID:-//ChamberMaster//Event Calendar 2.0//EN
METHOD:PUBLISH
X-PUBLISHED-TTL:P3D
REFRESH-INTERVAL:P3D
CALSCALE:GREGORIAN
BEGIN:VEVENT
DTSTART:20230207T160000Z
DTEND:20230207T180000Z
X-MICROSOFT-CDO-ALLDAYEVENT:FALSE
SUMMARY:Achieving Success With Investors
DESCRIPTION:For many startups\, not having enough capital is one of the top reasons why they had to shut down their businesses. However\, for many entrepreneurs\, pitching their business idea to investors can be nerve-wracking. Even if you have cash in the bank\, there may come a point when your business will have to get additional funding to grow\, pursue various contract opportunities\, hire more employees\, buy inventory\, purchase equipment\, and start scaling up.
X-ALT-DESC;FMTTYPE=text/html:For many startups\, not having enough capital is one of the top reasons why they had to shut down their businesses. However\, for many entrepreneurs\, pitching their business idea to investors can be nerve-wracking. Even if you have cash in the bank\, there may come a point when your business will have to get additional funding to grow\, pursue various contract opportunities\, hire more employees\, buy inventory\, purchase equipment\, and start scaling up.
LOCATION:Live Zoom
UID:e.2066.4914
SEQUENCE:3
DTSTAMP:20260420T001855Z
URL:https://dev.chainolakeschamber.com/events/details/achieving-success-with-investors-4914
END:VEVENT

END:VCALENDAR
