BEGIN:VCALENDAR
VERSION:2.0
PRODID:-//ChamberMaster//Event Calendar 2.0//EN
METHOD:PUBLISH
X-PUBLISHED-TTL:P3D
REFRESH-INTERVAL:P3D
CALSCALE:GREGORIAN
BEGIN:VEVENT
DTSTART:20181015T140000Z
DTEND:20181016T180000Z
X-MICROSOFT-CDO-ALLDAYEVENT:FALSE
SUMMARY:AARP Safe Driving Classroom in Spring Grove
DESCRIPTION:Take the AARP Smart Driver classroom course and you could save money on your car insurance!\n\n- Refresh your driving skills and knowledge of the rules of the road.\n\n- Learn techniques for handling left turns\, right-of-way and roundabouts.\n\n- Discover proven driving methods to help keep you and your loved ones safe on the road.\n\n\n\nRegister Now:\n\nCall Sandi 815-675-2121 to save your seat- and tell them Phil from Pace Insurance & Financial Services sent you!\n\n\n\nClasses will be held in the Community Room at Spring Grove State Bank of the Lakes\n\n                                            Route 12 & 1906 Holian Drive\n\n                                            Spring Grove\, IL
X-ALT-DESC;FMTTYPE=text/html:Take the AARP Smart Driver classroom course and you could save money on your car insurance!<br />\n- Refresh your driving skills and knowledge of the rules of the road.<br />\n- Learn techniques for handling left turns\, right-of-way and roundabouts.<br />\n- Discover proven driving methods to help keep you and your loved ones safe on the road.<br />\n<br />\nRegister Now:<br />\nCall Sandi <a href="tel:815-675-2121">815-675-2121</a> to save your seat- and tell them Phil from Pace Insurance &amp\; Financial Services sent you!<br />\n<br />\nClasses will be held in the Community Room at Spring Grove State Bank of the Lakes<br />\n&nbsp\;&nbsp\;&nbsp\;&nbsp\;&nbsp\;&nbsp\;&nbsp\;&nbsp\;&nbsp\;&nbsp\;&nbsp\;&nbsp\;&nbsp\;&nbsp\;&nbsp\;&nbsp\;&nbsp\;&nbsp\;&nbsp\;&nbsp\;&nbsp\;&nbsp\;&nbsp\;&nbsp\;&nbsp\;&nbsp\;&nbsp\;&nbsp\;&nbsp\;&nbsp\;&nbsp\;&nbsp\;&nbsp\;&nbsp\;&nbsp\;&nbsp\;&nbsp\;&nbsp\;&nbsp\;&nbsp\;&nbsp\;&nbsp\;&nbsp\;&nbsp\;Route 12 &amp\; 1906 Holian Drive<br />\n&nbsp\;&nbsp\;&nbsp\;&nbsp\;&nbsp\;&nbsp\;&nbsp\;&nbsp\;&nbsp\;&nbsp\;&nbsp\;&nbsp\;&nbsp\;&nbsp\;&nbsp\;&nbsp\;&nbsp\;&nbsp\;&nbsp\;&nbsp\;&nbsp\;&nbsp\;&nbsp\;&nbsp\;&nbsp\;&nbsp\;&nbsp\;&nbsp\;&nbsp\;&nbsp\;&nbsp\;&nbsp\;&nbsp\;&nbsp\;&nbsp\;&nbsp\;&nbsp\;&nbsp\;&nbsp\;&nbsp\;&nbsp\;&nbsp\;&nbsp\;&nbsp\;Spring Grove\, IL
LOCATION:Community Room at Spring Grove State Bank of the Lakes Route 12 & 1906 Holian Drive Spring Grove\, IL
UID:e.2066.1194
SEQUENCE:3
DTSTAMP:20260425T164945Z
URL:https://dev.chainolakeschamber.com/events/details/aarp-safe-driving-classroom-in-spring-grove-1194
END:VEVENT

END:VCALENDAR
