BEGIN:VCALENDAR
VERSION:2.0
PRODID:-//ChamberMaster//Event Calendar 2.0//EN
METHOD:PUBLISH
X-PUBLISHED-TTL:P3D
REFRESH-INTERVAL:P3D
CALSCALE:GREGORIAN
BEGIN:VEVENT
DTSTART:20211125T000000Z
DTEND:20211125T020000Z
X-MICROSOFT-CDO-ALLDAYEVENT:FALSE
SUMMARY:A Thanksgiving Dinner with River Ridge Church
DESCRIPTION:If you do not have family or friends in the area\, please come to River Ridge Church and eat with our family for a Thanksgiving Dinner on Wednesday\, November 24\, 2021 at 6 pm.\n\nPlease click/register at: riverridgewi.online/Thanksgiving so we can save you a place at the table by Friday\, November 19th!\n\nFor more information contact: info@riverridgewi.com.
X-ALT-DESC;FMTTYPE=text/html:&nbsp\;\n<h4>If you do not have family or friends in the area\, please come to River Ridge Church and eat with our family for a Thanksgiving Dinner on Wednesday\, November 24\, 2021 at 6 pm.</h4>\n\n<h4>Please click/register at:&nbsp\;<a href="https://www.riverridge.online/thanksgiving/" style="box-sizing: inherit\; text-decoration: none\; color: rgb(0\, 192\, 198)\; -webkit-font-smoothing: antialiased\; text-rendering: optimizeLegibility\; text-shadow: rgba(0\, 0\, 0\, 0.004) 1px 1px 1px\;">riverridgewi.online/Thanksgiving</a>&nbsp\;so we can save you a place at the table by Friday\, November 19th!</h4>\n\n<h4>For more information contact:&nbsp\;<a href="mailto:info@riverridgewi.com?subject=Thanksgiving%20Dinner" style="box-sizing: inherit\; text-decoration: none\; color: rgb(0\, 192\, 198)\; -webkit-font-smoothing: antialiased\; text-rendering: optimizeLegibility\; text-shadow: rgba(0\, 0\, 0\, 0.004) 1px 1px 1px\;">info@riverridgewi.com</a>.</h4>\n
LOCATION:River Ridge Church 7664 Wilmot Road Spring Grove\, IL 60081
UID:e.2066.4160
SEQUENCE:3
DTSTAMP:20260423T051245Z
URL:https://dev.chainolakeschamber.com/events/details/a-thanksgiving-dinner-with-river-ridge-church-4160
END:VEVENT

END:VCALENDAR
