BEGIN:VCALENDAR
VERSION:2.0
PRODID:-//ChamberMaster//Event Calendar 2.0//EN
METHOD:PUBLISH
X-PUBLISHED-TTL:P3D
REFRESH-INTERVAL:P3D
CALSCALE:GREGORIAN
BEGIN:VEVENT
DTSTART:20210911T170000Z
DTEND:20210912T020000Z
X-MICROSOFT-CDO-ALLDAYEVENT:FALSE
SUMMARY:A-Maze-ment A-waits at Richardson Farm
DESCRIPTION:SPRING GROVE   Richardson Farm celebrates 20 years of A-Maze-ing this fall\, with opening weekend set for Saturday and Sunday\, Sept. 11-12.\n\n\n\nBilled as the "World's Largest Corn Maze\," this year's design celebrates all of the fun activities that go on at the farm located at 909 English Prairie Road\, Spring Grove. The maze features a 9-mile trail wending through 28 acres of corn. Visitors can choose to make their way through any or all of four smaller maze segments\, each with its own in-and-out\, said Robert Richardson\, co-owner of the farm along with other family members\, including his brother\, George.\n\n\n\n"The upper left corner of the maze depicts our 50-foot-tall viewing tower and zip line while other portions feature the barn and gift shop\, pumpkin patch\, tulips\, sunflowers\, Christmas trees\, our train for kids to enjoy and\, of course\, corn\," George Richardson said. "It's a celebration of all of the fun activities we started with and those we have developed over the years\, like our new tulip and sunflower fests."\n\n\n\nThe maze was designed and planted by Shawn Stolworthy of Idaho-based MazePlay. The paths are freshly rototilled and ready for explorers\, said Ryan Richardson\, George's son and a member of the sixth generation on the farm.\n\n\n\n"We look forward to welcoming visitors back and to celebrating 20 years of fun on our farm with fans new and old\," he added.
X-ALT-DESC;FMTTYPE=text/html:<span style="font-family:calibri\,sans-serif\;"><span style="font-size:11.0pt\;">SPRING GROVE &mdash\; Richardson Farm celebrates 20 years of A-Maze-ing this fall\, with opening weekend set for Saturday and Sunday\, Sept. 11-12.<br />\n<br />\nBilled as the &ldquo\;World&rsquo\;s Largest Corn Maze\,&rdquo\; this year&rsquo\;s design celebrates all of the fun activities that go on at the farm located at 909 English Prairie Road\, Spring Grove. The maze features a 9-mile trail wending through 28 acres of corn. Visitors can choose to make their way through any or all of four smaller maze segments\, each with its own in-and-out\, said Robert Richardson\, co-owner of the farm along with other family members\, including his brother\, George.<br />\n<br />\n&ldquo\;The upper left corner of the maze depicts our 50-foot-tall viewing tower and zip line while other portions feature the barn and gift shop\, pumpkin patch\, tulips\, sunflowers\, Christmas trees\, our train for kids to enjoy and\, of course\, corn\,&rdquo\; George Richardson said. &ldquo\;It&rsquo\;s a celebration of all of the fun activities we started with and those we have developed over the years\, like our new tulip and sunflower fests.&rdquo\;<br />\n<br />\nThe maze was designed and planted by Shawn Stolworthy of Idaho-based MazePlay. The paths are freshly rototilled and ready for explorers\, said Ryan Richardson\, George&rsquo\;s son and a member of the sixth generation on the farm.<br />\n<br />\n&ldquo\;We look forward to welcoming visitors back and to celebrating 20 years of fun on our farm with fans new and old\,&rdquo\; he added. </span></span>
LOCATION:
UID:e.2066.4142
SEQUENCE:3
DTSTAMP:20260423T083556Z
URL:https://dev.chainolakeschamber.com/events/details/a-maze-ment-a-waits-at-richardson-farm-4142
END:VEVENT

END:VCALENDAR
