BEGIN:VCALENDAR
VERSION:2.0
PRODID:-//ChamberMaster//Event Calendar 2.0//EN
METHOD:PUBLISH
X-PUBLISHED-TTL:P3D
REFRESH-INTERVAL:P3D
CALSCALE:GREGORIAN
BEGIN:VEVENT
DTSTART;VALUE=DATE:20211205
DTEND;VALUE=DATE:20211206
TRANSP:TRANSPARENT
X-MICROSOFT-CDO-ALLDAYEVENT:TRUE
SUMMARY:9th Annual Jeeps On The Run Toys For Tots Drive with Ray Chrysler Dodge Jeep & Ram
DESCRIPTION:Jeeps On The Run's 9th Annual Toys For Tots Drive.  You will not want to miss this event.  Ray Chrysler Dodge Jeep & Ram has donated a 2021 Jeep Wrangler to raffle off.  See details at www.JeepsOnTheRun.com. one $20.00 ticket\, and you can OWN the Wrangler!  Join us on Facebook! https://www.facebook.com/groups/JeepsOnTheRun\n\nJeeps On The Run has become the largest single donating group for the Toys For Tots community locally.  The day is full of fun things for all ages.  You for sure will want to be part of the police escorted ride to the historic Genesee Theatre as well.  We have a lot of great things planned for this awesome day.\n\nBe sure to register at www.JeepsOnTheRun.com. #JOTR\n\n\n\nJoin us on Facebook! https://www.facebook.com/groups/JeepsOnTheRun
X-ALT-DESC;FMTTYPE=text/html:<p>Jeeps On The Run&#39\;s 9th Annual Toys For Tots Drive.&nbsp\; You will not want to miss this event.&nbsp\; Ray Chrysler Dodge Jeep &amp\; Ram has donated a 2021 Jeep Wrangler to raffle off.&nbsp\; See details at www.JeepsOnTheRun.com. one $20.00 ticket\, and you can OWN the Wrangler!&nbsp\;&nbsp\;Join us on Facebook!&nbsp\;https://www.facebook.com/groups/JeepsOnTheRun</p>\n\n<p>Jeeps On The Run has become the largest single donating group for the Toys For Tots community locally.&nbsp\; The day is full of fun things for all ages.&nbsp\; You for sure will want to be part of the police escorted ride to the historic Genesee Theatre as well.&nbsp\; We have a lot of great things planned for this awesome day.</p>\n\n<p>Be sure to register at www.JeepsOnTheRun.com. #JOTR<br />\n<br />\nJoin us on Facebook!&nbsp\;https://www.facebook.com/groups/JeepsOnTheRun</p>\n
LOCATION:Starts at Ray Chrysler Dodge Jeep Ram at 8:00 am. See www.JeepsOnTheRun.com for details Join us on Facebook! https://www.facebook.com/groups/JeepsOnTheRun
UID:e.2066.4146
SEQUENCE:3
DTSTAMP:20260423T033342Z
URL:https://dev.chainolakeschamber.com/events/details/9th-annual-jeeps-on-the-run-toys-for-tots-drive-with-ray-chrysler-dodge-jeep-ram-4146
END:VEVENT

END:VCALENDAR
