BEGIN:VCALENDAR
VERSION:2.0
PRODID:-//ChamberMaster//Event Calendar 2.0//EN
METHOD:PUBLISH
X-PUBLISHED-TTL:P3D
REFRESH-INTERVAL:P3D
CALSCALE:GREGORIAN
BEGIN:VEVENT
DTSTART:20230624T130000Z
DTEND:20230624T163000Z
X-MICROSOFT-CDO-ALLDAYEVENT:FALSE
SUMMARY:6th Annual Furry 5K Run & Walk
DESCRIPTION:Save-A-Pet will be hosting its 6th Annual 5K Run & Walk at the Old School School Forest Preserve in Libertyville on June 24th starting at 8:00 am. You can run a 5K or a  walk with your 6-Legged 1-mile walk with your furry friend.  The theme this year is "pawjama party" so register today and dress your well-behaved dog in their cutest "pawjamas."
X-ALT-DESC;FMTTYPE=text/html:Save-A-Pet will be hosting its 6th Annual 5K Run &amp\; Walk at the Old School School Forest Preserve in Libertyville on June 24th starting at 8:00 am. You can run a 5K or a&nbsp\; walk with your 6-Legged 1-mile walk with your furry friend.&nbsp\; The theme this year is &quot\;pawjama party&quot\; so register today and dress your well-behaved dog in their cutest &quot\;pawjamas.&quot\;
LOCATION:Old School Forest Preserve 28285 N. St Mary's Rd. Libertyville\, IL 60048
UID:e.2066.5244
SEQUENCE:3
DTSTAMP:20260419T153832Z
URL:https://dev.chainolakeschamber.com/events/details/6th-annual-furry-5k-run-walk-5244
END:VEVENT

END:VCALENDAR
