BEGIN:VCALENDAR
VERSION:2.0
PRODID:-//ChamberMaster//Event Calendar 2.0//EN
METHOD:PUBLISH
X-PUBLISHED-TTL:P3D
REFRESH-INTERVAL:P3D
CALSCALE:GREGORIAN
BEGIN:VEVENT
DTSTART:20230722T150000Z
DTEND:20230723T220000Z
X-MICROSOFT-CDO-ALLDAYEVENT:FALSE
SUMMARY:5th Annual Wild Horse Fair with Operation Wild Horse
DESCRIPTION:Operation Wild Horse Presents the 5th Annual Wild Horse Fair\n\nAll proceeds benefit Operation "Wild Horse"\n\nVendors and Events throughout the day - See flyer
X-ALT-DESC;FMTTYPE=text/html:Operation Wild Horse Presents the 5th Annual Wild Horse Fair<br />\nAll proceeds benefit Operation &quot\;Wild Horse&quot\;<br />\nVendors and Events throughout the day - See flyer&nbsp\;&nbsp\;&nbsp\;&nbsp\;&nbsp\;&nbsp\;&nbsp\;&nbsp\;
LOCATION:Veterans R&R 605 S. Valley Hill Road Bull Valley IL 60098
UID:e.2066.5317
SEQUENCE:3
DTSTAMP:20260419T155521Z
URL:https://dev.chainolakeschamber.com/events/details/5th-annual-wild-horse-fair-with-operation-wild-horse-5317
END:VEVENT

END:VCALENDAR
