BEGIN:VCALENDAR
VERSION:2.0
PRODID:-//ChamberMaster//Event Calendar 2.0//EN
METHOD:PUBLISH
X-PUBLISHED-TTL:P3D
REFRESH-INTERVAL:P3D
CALSCALE:GREGORIAN
BEGIN:VEVENT
DTSTART:20180531T220000Z
DTEND:20180601T013000Z
X-MICROSOFT-CDO-ALLDAYEVENT:FALSE
SUMMARY:5th Annual INK 5K
DESCRIPTION:Annual community 5K to raise funds for the Isa Kranz Foundation.
X-ALT-DESC;FMTTYPE=text/html:Annual community 5K to raise funds for the Isa Kranz Foundation.
LOCATION:Horse Fair Park in Spring Grove\, IL
UID:e.2066.731
SEQUENCE:3
DTSTAMP:20260425T234418Z
URL:https://dev.chainolakeschamber.com/events/details/5th-annual-ink-5k-731
END:VEVENT

END:VCALENDAR
