BEGIN:VCALENDAR
VERSION:2.0
PRODID:-//ChamberMaster//Event Calendar 2.0//EN
METHOD:PUBLISH
X-PUBLISHED-TTL:P3D
REFRESH-INTERVAL:P3D
CALSCALE:GREGORIAN
BEGIN:VEVENT
DTSTART:20181020T230000Z
DTEND:20181021T040000Z
X-MICROSOFT-CDO-ALLDAYEVENT:FALSE
SUMMARY:5 th Annual Trivia Night
DESCRIPTION:5th Annunal Trivia Night\n\n\n\nMUST be 21 years or older\n\n\n\nRegistration deadline- October 17
X-ALT-DESC;FMTTYPE=text/html:5th Annunal Trivia Night<br />\n<br />\nMUST be 21 years or older<br />\n<br />\nRegistration deadline- October 17
LOCATION:Richardson Farm 9407 Richardson Rd Spring Grove\, IL
UID:e.2066.1482
SEQUENCE:3
DTSTAMP:20260425T164822Z
URL:https://dev.chainolakeschamber.com/events/details/5-th-annual-trivia-night-1482
END:VEVENT

END:VCALENDAR
