BEGIN:VCALENDAR
VERSION:2.0
PRODID:-//ChamberMaster//Event Calendar 2.0//EN
METHOD:PUBLISH
X-PUBLISHED-TTL:P3D
REFRESH-INTERVAL:P3D
CALSCALE:GREGORIAN
BEGIN:VEVENT
DTSTART:20220101T010000Z
DTEND:20220101T070000Z
X-MICROSOFT-CDO-ALLDAYEVENT:FALSE
SUMMARY:39th Annual New Year's Eve Gala at Maravela's
DESCRIPTION:Deluxe Chef Carved Prime Rib Buffet\, Shrimp Cocktail and Assorted Appetizers\, plus our Sensational Sweets Table
X-ALT-DESC;FMTTYPE=text/html:Deluxe Chef Carved Prime Rib Buffet\, Shrimp Cocktail and Assorted Appetizers\, plus our Sensational Sweets Table
LOCATION:Maravela's Banquets & Catering 39th Annual Event from 7pm to 1am
UID:e.2066.4170
SEQUENCE:3
DTSTAMP:20260423T015517Z
URL:https://dev.chainolakeschamber.com/events/details/39th-annual-new-year-s-eve-gala-at-maravela-s-4170
END:VEVENT

END:VCALENDAR
