BEGIN:VCALENDAR
VERSION:2.0
PRODID:-//ChamberMaster//Event Calendar 2.0//EN
METHOD:PUBLISH
X-PUBLISHED-TTL:P3D
REFRESH-INTERVAL:P3D
CALSCALE:GREGORIAN
BEGIN:VEVENT
DTSTART:20230722T200000Z
DTEND:20230722T220000Z
X-MICROSOFT-CDO-ALLDAYEVENT:FALSE
SUMMARY:2nd of DOUBLE GRAND OPENING Randolph Hotel
DESCRIPTION:Join us for the SECOND of the Double Grand Opening/Ribbon Cutting/Mixer at Randolph Hotel with a Ribbon Cutting and Mixer!\n\nSnacks and beverages will be available along with a beautiful Nippersink Lake view.\n\nThis is a free event\, but please RSVP
X-ALT-DESC;FMTTYPE=text/html:<span style="color: rgb(51\, 51\, 51)\; font-family: sans-serif\, Arial\, Verdana\, &quot\;Trebuchet MS&quot\;\; font-size: 13px\; background-color: rgb(255\, 255\, 255)\;">Join us for the SECOND of the Double Grand Opening/Ribbon Cutting/Mixer at Randolph Hotel with a Ribbon Cutting and Mixer!</span><br style="color: rgb(51\, 51\, 51)\; font-family: sans-serif\, Arial\, Verdana\, &quot\;Trebuchet MS&quot\;\; font-size: 13px\;" />\n<span style="color: rgb(51\, 51\, 51)\; font-family: sans-serif\, Arial\, Verdana\, &quot\;Trebuchet MS&quot\;\; font-size: 13px\; background-color: rgb(255\, 255\, 255)\;">Snacks and beverages will be available along with a beautiful Nippersink Lake view.</span><br style="color: rgb(51\, 51\, 51)\; font-family: sans-serif\, Arial\, Verdana\, &quot\;Trebuchet MS&quot\;\; font-size: 13px\;" />\n<span style="color: rgb(51\, 51\, 51)\; font-family: sans-serif\, Arial\, Verdana\, &quot\;Trebuchet MS&quot\;\; font-size: 13px\; background-color: rgb(255\, 255\, 255)\;">This is a free event\, but please RSVP</span>
LOCATION:The Randolph Hotel 115 Nippersink Blvd. Fox Lake\, IL 60020
UID:e.2066.5269
SEQUENCE:3
DTSTAMP:20260419T140356Z
URL:https://dev.chainolakeschamber.com/events/details/2nd-of-double-grand-opening-randolph-hotel-5269
END:VEVENT

END:VCALENDAR
