BEGIN:VCALENDAR
VERSION:2.0
PRODID:-//ChamberMaster//Event Calendar 2.0//EN
METHOD:PUBLISH
X-PUBLISHED-TTL:P3D
REFRESH-INTERVAL:P3D
CALSCALE:GREGORIAN
BEGIN:VEVENT
DTSTART:20180811T220000Z
DTEND:20180812T023000Z
X-MICROSOFT-CDO-ALLDAYEVENT:FALSE
SUMMARY:2nd Annual Race Sport Lighting
DESCRIPTION:Looking for a big turn out of JEEP's\, Trucks\, Show Cars\, Corvette's\, Motorcycles\, Golf Carts\, ATV's and much more....Come celebrate our 2nd annual car show at our new headquarters location in Ringwood.\n\n8:30-9:30  a "GLOW OFF" Extravaganza of lights.\n\n\n\nThere will be several trophies and prizes from our judges\, 50/50 raffles\, product raffles\, Food on the Grille\, and much much more....\n\n\n\nThe proceeds of the 50/50 raffle will go toward Ricky Bueno\, a leader in our community who was in a life threatening car accident\, and survived\, and on the road to recovery. The funds will help pay the astronomical hospital bills that his family has.
X-ALT-DESC;FMTTYPE=text/html:<span>Looking for a big turn out of JEEP&#39\;s\, Trucks\, Show Cars\, Corvette&#39\;s\, Motorcycles\, Golf Carts\, ATV&#39\;s and much more....Come celebrate our 2nd annual car show at our new headquarters location in Ringwood.<br />\n8:30-9:30&nbsp\; a &quot\;GLOW OFF&quot\; Extravaganza of lights.<br />\n<br />\nThere will be several trophies and prizes from our judges\, 50/50 raffles\, product raffles\, Food on the Grille\, and much much more....<br />\n<br />\nThe proceeds of the 50/50 raffle will go toward Ricky Bueno\, a leader in our community who was in a life threatening car accident\, and survived\, and on the road to recovery. The funds will help pay the astronomical hospital bills that his family has.</span>
LOCATION:Race Sport Lighting 5402 Austin Ct Ringwood\, IL
UID:e.2066.1185
SEQUENCE:3
DTSTAMP:20260425T193106Z
URL:https://dev.chainolakeschamber.com/events/details/2nd-annual-race-sport-lighting-1185
END:VEVENT

END:VCALENDAR
