BEGIN:VCALENDAR
VERSION:2.0
PRODID:-//ChamberMaster//Event Calendar 2.0//EN
METHOD:PUBLISH
X-PUBLISHED-TTL:P3D
REFRESH-INTERVAL:P3D
CALSCALE:GREGORIAN
BEGIN:VEVENT
DTSTART:20230805T150000Z
DTEND:20230805T230000Z
X-MICROSOFT-CDO-ALLDAYEVENT:FALSE
SUMMARY:2nd Annual Jordan Faust Memorial Ride
DESCRIPTION:"We're looking for a few super heros to join us!"\n\n2nd Annual Jordan Faust Memorial Ride and benefit for a scholarship fund in Jordan's name!\n\n\n\nPlease contact us if you wish to donate items such as toys\, clothes\, coloring books\, etc. for families utilizing the UW Health American Family Children's Hospital.\n\n\n\nIn this family\, no one fights alone!
X-ALT-DESC;FMTTYPE=text/html:&quot\;We&#39\;re looking for a few super heros to join us!&quot\;<br />\n2nd Annual Jordan Faust Memorial Ride and benefit for a scholarship fund in Jordan&#39\;s name!<br />\n<br />\nPlease contact us if you wish to donate items such as toys\, clothes\, coloring books\, etc. for families utilizing the UW Health American Family Children&#39\;s Hospital.<br />\n<br />\nIn this family\, no one fights alone!
LOCATION:We begin at Island Bar & Grill Ft. Atkinson WI
UID:e.2066.5286
SEQUENCE:3
DTSTAMP:20260419T121302Z
URL:https://dev.chainolakeschamber.com/events/details/2nd-annual-jordan-faust-memorial-ride-5286
END:VEVENT

END:VCALENDAR
