BEGIN:VCALENDAR
VERSION:2.0
PRODID:-//ChamberMaster//Event Calendar 2.0//EN
METHOD:PUBLISH
X-PUBLISHED-TTL:P3D
REFRESH-INTERVAL:P3D
CALSCALE:GREGORIAN
BEGIN:VEVENT
DTSTART:20260425T230000Z
DTEND:20260426T030000Z
X-MICROSOFT-CDO-ALLDAYEVENT:FALSE
SUMMARY:2ND ANNUAL HEBRON SPRING FLING
DESCRIPTION:Join Us for a Night of Generosity\, Community\, and Celebration! \n\n\n\nOur annual Spring Fling event is dedicated to empowering and \n\nsupporting the incredible groups that serve our area. We are dedicated to \n\nlifting up the underfunded non-profit organizations that strengthen the \n\nAlden-Hebron community. \n\n\n\nThis special evening will directly benefit six local organizations whose \n\nwork supports veterans\, students\, the arts\, education\, and the preservation \n\nof our community's history: \n\n	American Legion Eugene Drill Post 606 \n	Alden-Hebron Booster Club (supporting the Alden-Hebron \n	FFA) \n	Deep Roots Stage \n	Hebron Public Library \n	Hebron Cemetery Association \n	Alden-Hebron Youth Baseball/Softball \n\nThese organizations make a meaningful impact every day often with \n\nlimited funding. Your participation helps ensure they can continue \n\nserving\, educating\, honoring\, and enriching our community for years to \n\ncome. \n\n\n\nContact us at: hebronserviceclub@gmail.com 815-572-1543
X-ALT-DESC;FMTTYPE=text/html:Join Us for a Night of Generosity\, Community\,&nbsp\;and Celebration!&nbsp\;<br />\n<br />\nOur annual Spring Fling event is dedicated to empowering and&nbsp\;<br />\nsupporting the incredible groups that serve our area. We are dedicated to&nbsp\;<br />\nlifting up the underfunded non-profit organizations that strengthen the&nbsp\;<br />\nAlden-Hebron community.&nbsp\;<br />\n<br />\nThis special evening will directly benefit six local organizations whose&nbsp\;<br />\nwork supports veterans\, students\, the arts\, education\, and the preservation&nbsp\;<br />\nof our community&rsquo\;s history:&nbsp\;\n<ul>\n	<li>American Legion Eugene Drill Post 606&nbsp\;</li>\n	<li>Alden-Hebron Booster Club (supporting the Alden-Hebron&nbsp\;</li>\n	<li>FFA)&nbsp\;</li>\n	<li>Deep Roots Stage&nbsp\;</li>\n	<li>Hebron Public Library&nbsp\;</li>\n	<li>Hebron Cemetery Association&nbsp\;</li>\n	<li>Alden-Hebron Youth Baseball/Softball&nbsp\;</li>\n</ul>\nThese organizations make a meaningful impact every day&mdash\;often with&nbsp\;<br />\nlimited funding. Your participation helps ensure they can continue&nbsp\;<br />\nserving\, educating\, honoring\, and enriching our community for years to&nbsp\;<br />\ncome.&nbsp\;<br />\n<br />\nContact us at: hebronserviceclub@gmail.com 815-572-1543
LOCATION:Harvard Moose Lodge 22500 Illinois 173\,Harvard\, IL
UID:e.2066.12924
SEQUENCE:3
DTSTAMP:20260425T145032Z
URL:https://dev.chainolakeschamber.com/events/details/2nd-annual-hebron-spring-fling-12924
END:VEVENT

END:VCALENDAR
