BEGIN:VCALENDAR
VERSION:2.0
PRODID:-//ChamberMaster//Event Calendar 2.0//EN
METHOD:PUBLISH
X-PUBLISHED-TTL:P3D
REFRESH-INTERVAL:P3D
CALSCALE:GREGORIAN
BEGIN:VEVENT
DTSTART:20230624T200000Z
DTEND:20230625T000000Z
X-MICROSOFT-CDO-ALLDAYEVENT:FALSE
SUMMARY:2nd annual Craft Beer Adventure Fest - Richardson Farm
DESCRIPTION:Line up the babysitter\, folks. The Craft Beer Adventure Festival is coming. And while this June 24 event certainly beckons to the playful\, it is open only to the 21-and-over crowd.
X-ALT-DESC;FMTTYPE=text/html:<span style="color: rgb(36\, 36\, 36)\; font-family: &quot\;Segoe UI&quot\;\, &quot\;Segoe UI Web (West European)&quot\;\, &quot\;Segoe UI&quot\;\, -apple-system\, BlinkMacSystemFont\, Roboto\, &quot\;Helvetica Neue&quot\;\, sans-serif\; font-size: 15px\; background-color: rgb(237\, 251\, 255)\;">Line up the babysitter\, folks. The Craft Beer Adventure Festival is coming. And while this June 24 event certainly beckons to the playful\, it is open only to the 21-and-over crowd.</span>
LOCATION:The fun will run from 3 to 7 p.m. Saturday\, June 24\,
UID:e.2066.5235
SEQUENCE:3
DTSTAMP:20260419T172640Z
URL:https://dev.chainolakeschamber.com/events/details/2nd-annual-craft-beer-adventure-fest-richardson-farm-5235
END:VEVENT

END:VCALENDAR
