BEGIN:VCALENDAR
VERSION:2.0
PRODID:-//ChamberMaster//Event Calendar 2.0//EN
METHOD:PUBLISH
X-PUBLISHED-TTL:P3D
REFRESH-INTERVAL:P3D
CALSCALE:GREGORIAN
BEGIN:VEVENT
DTSTART:20190818T140000Z
DTEND:20190818T190000Z
X-MICROSOFT-CDO-ALLDAYEVENT:FALSE
SUMMARY:22nd Annual Made In the USA Classic Car Show - Gary Lang Auto
DESCRIPTION:PRESENTED BY GARY LANG AUTO GROUP\n\nRain or Shine!!!\n\n100% of proceeds donated to Bob Hacker Memorial Fund
X-ALT-DESC;FMTTYPE=text/html:<span style="font-family:verdana"><span style="font-size:14px"><strong><span style="color:#FF0000">PRESENTED BY GARY LANG AUTO GROUP</span></strong></span></span><br />\n<strong><span style="font-family:verdana">Rain or Shine!!!<br />\n100% of proceeds donated to Bob Hacker Memorial Fund</span></strong>
LOCATION:1107 S. Route 31 McHenry\, IL 815-385-2100
UID:e.2066.2208
SEQUENCE:3
DTSTAMP:20260425T010814Z
URL:https://dev.chainolakeschamber.com/events/details/22nd-annual-made-in-the-usa-classic-car-show-gary-lang-auto-2208
END:VEVENT

END:VCALENDAR
