BEGIN:VCALENDAR
VERSION:2.0
PRODID:-//ChamberMaster//Event Calendar 2.0//EN
METHOD:PUBLISH
X-PUBLISHED-TTL:P3D
REFRESH-INTERVAL:P3D
CALSCALE:GREGORIAN
BEGIN:VEVENT
DTSTART:20180722T140000Z
DTEND:20180722T190000Z
X-MICROSOFT-CDO-ALLDAYEVENT:FALSE
SUMMARY:21st Annual Made In the USA Classic Car Show - Gary Lang Auto
DESCRIPTION:PRESENTED BY GARY LANG AUTO GROUP\n\nRain or Shine!!!\n\n?100% of proceeds donated to charity
X-ALT-DESC;FMTTYPE=text/html:<span style="font-family:verdana"><span style="font-size:14px"><strong><span style="color:#FF0000">PRESENTED BY GARY LANG AUTO GROUP</span></strong></span></span><br />\n<strong><span style="font-family:verdana">Rain or Shine!!!<br />\n?100% of proceeds donated to charity</span></strong><br />\n&nbsp\;
LOCATION:1107 S. Route 31 McHenry\, IL 815-385-2100
UID:e.2066.932
SEQUENCE:3
DTSTAMP:20260425T222159Z
URL:https://dev.chainolakeschamber.com/events/details/21st-annual-made-in-the-usa-classic-car-show-gary-lang-auto-932
END:VEVENT

END:VCALENDAR
